BEGIN:VCALENDAR
VERSION:2.0
PRODID:-//T2 Center - ECPv6.15.18//NONSGML v1.0//EN
CALSCALE:GREGORIAN
METHOD:PUBLISH
X-WR-CALNAME:T2 Center
X-ORIGINAL-URL:https://prltap.org/eng
X-WR-CALDESC:Events for T2 Center
REFRESH-INTERVAL;VALUE=DURATION:PT1H
X-Robots-Tag:noindex
X-PUBLISHED-TTL:PT1H
BEGIN:VTIMEZONE
TZID:America/Puerto_Rico
BEGIN:STANDARD
TZOFFSETFROM:-0400
TZOFFSETTO:-0400
TZNAME:AST
DTSTART:20240101T000000
END:STANDARD
END:VTIMEZONE
BEGIN:VEVENT
DTSTART;TZID=America/Puerto_Rico:20250502T090000
DTEND;TZID=America/Puerto_Rico:20250502T113000
DTSTAMP:20260419T111540
CREATED:20250407T163742Z
LAST-MODIFIED:20250407T163742Z
UID:16399-1746176400-1746185400@prltap.org
SUMMARY:Webinar: Módulo 3 de la Certificación Road Safety Champion (RSC): Cultura de Seguridad Vial
DESCRIPTION:REGISTRO \n  \nFECHA Y HORA: \nViernes\, 2 de mayo de 2025\n9:20 AM a 11:30 AM (AST)\n(la sala virtual abrirá a las 9:00 AM) \nHoras Contacto: Dos (2) horas técnicas para ingenieros y generales para agrimensores del CIAPR. \n***La determinación final en cuanto a la adjudicación de las Horas Contacto (HC)\, dependerá de los requisitos y regulaciones vigentes del CIAPR.*** \nPLATAFORMA:\nGoToWebinar \nINSTRUCTOR:\nDr. Didier M. Valdés Díaz\nCatedrático\nDepartamento de Ingeniería Civil y Agrimensura\nUPR-Recinto de Mayagüez \n  \nOBJETIVOS:\nProporcionar una descripción general de alto nivel de las estrategias para fomentar una mejor cultura de seguridad vial. \nTEMAS A CUBRIRSE: \n\nChoques en los sistemas viales\n\nPrevalencia\nTendencias\nCostos\n\n\nComportamiento humano y prejuicios respecto a la seguridad vial\nCultura de seguridad vial\n\n  \nREQUERIMIENTOS PARA CUALIFICAR PARA LAS HORAS CONTACTO DEL CIAPR \n1. Participar en el tiempo mínimo de participación requerido: 9:40 AM a 11:30 AM.\n2. Durante el adiestramiento el Instructor mencionará cuatro (4) palabras claves.\n3. Luego de finalizado el adiestramiento\, los participantes deben completar un formulario digital para escribir las cuatro (4) palabras claves mencionadas por el Instructor.\n4. Debe tener correctas al menos tres (3) de las palabras claves para cualificar para las horas contacto.\n5. Tendrá solo una oportunidad para contestar el formulario en un periodo de 48 horas de días laborables luego de finalizado el adiestramiento. \n  \nINFORMACIÓN DE CONTACTO\nCentro de Transferencia de Tecnología en Transportación\nSrta. Ciara Toro Rosario (ciara.toro@upr.edu)\nSrta. Cristina Riberas González (cristina.riberas@upr.edu)\nTeléfonos: 787-834-6385 (Directo)\n787-832-4040 Exts. 3393\, 3403\nACT\nAimee Dilán (adilan@act.pr.gov)\nPaola N. Fuster (pfuster@act.pr.gov)\nTeléfono: 787-721-8787 Exts. 57220 / 52049\nNOTA: Favor enviar la Forma ACT 770 y completar el registro.
URL:https://prltap.org/eng/event/webinar-modulo-3-de-la-certificacion-road-safety-champion-rsc-cultura-de-seguridad-vial/
CATEGORIES:Webinar
ORGANIZER;CN="PRLTAP":MAILTO:prt2.webmaster@gmail.com
END:VEVENT
BEGIN:VEVENT
DTSTART;TZID=America/Puerto_Rico:20250507T090000
DTEND;TZID=America/Puerto_Rico:20250507T113000
DTSTAMP:20260419T111540
CREATED:20250407T163754Z
LAST-MODIFIED:20250407T163754Z
UID:16400-1746608400-1746617400@prltap.org
SUMMARY:Webinar: Módulo 5 del Certificado "Road Safety Champion (RSC)":  Intersección de la Transportación con Oficiales de Salud Pública y Cuerpos de Policía
DESCRIPTION:REGISTRO \n  \nFECHA Y HORA: \nMiércoles\, 7 de mayo de 2025\n9:20 AM a 11:30 AM (AST)\n(la sala virtual abrirá a las 9:00 AM) \nHoras Contacto: Dos (2) horas técnicas para ingenieros y generales para agrimensores del CIAPR \n***La determinación final en cuanto a la adjudicación de las Horas Contacto (HC)\, dependerá de los requisitos y regulaciones vigentes del CIAPR.*** \nPLATAFORMA:\nGoToWebinar \nINSTRUCTOR:\nDr. Alberto M. Figueroa Medina\nCatedrático\nDepartamento de Ingeniería Civil y Agrimensura\nUPR-Recinto de Mayagüez \n  \nOBJETIVOS\nComprender el rol que desempeñan las personas trabajando en los sectores de salud pública y los cuerpos de policía en la eliminación de problemas de seguridad en la transportación\, que puede conducir a la reducción de muertes y lesiones graves por choques en las carreteras. \nRESULTADOS DEL ADIESTRAMIENTO \n\nReafirmar la importancia de la seguridad en las carreteras desde múltiples perspectivas.\nIdentificar cómo las fuerzas de ley y orden y de salud pública pueden ayudar a mejorar la seguridad en las carreteras.\nDescribir estrategias de colaboración entre diferentes disciplinas y oficios para el bienestar y mejora en la seguridad vial.\n\n  \nREQUERIMIENTOS PARA CUALIFICAR PARA LAS HORAS CONTACTO DEL CIAPR: \n\nParticipar en el tiempo mínimo de participación requerido: 9:40 AM a 11:30 AM.\nDurante el adiestramiento el Instructor mencionará cuatro (4) palabras claves.\nLuego de finalizado el adiestramiento\, los participantes deben completar un formulario digital para escribir las cuatro (4) palabras claves mencionadas por el Instructor.\nDebe tener correctas al menos tres (3) de las palabras claves para cualificar para las horas contacto.\nTendrá solo una oportunidad para contestar el formulario en un periodo de 48 horas de días laborables luego de finalizado el adiestramiento.\n\n  \nINFORMACIÓN DE CONTACTO\nCentro de Transferencia de Tecnología en Transportación\nSrta. Ciara Toro Rosario (ciara.toro@upr.edu)\nSrta. Cristina Riberas González (cristina.riberas@upr.edu)\nTeléfonos: 787-834-6385 (Directo)\n787-832-4040 Exts. 3393\, 3403 \nACT\nAimee Dilán (adilan@act.pr.gov)\nPaola N. Fuster (pfuster@act.pr.gov)\nTeléfono: 787-721-8787 Exts. 57220 / 52049\nNOTA: Favor enviar la Forma ACT 770 y completar el registro.
URL:https://prltap.org/eng/event/webinar-modulo-5-del-certificado-road-safety-champion-rsc-interseccion-de-la-transportacion-con-oficiales-de-salud-publica-y-cuerpos-de-policia/
CATEGORIES:Webinar
ORGANIZER;CN="PRLTAP":MAILTO:prt2.webmaster@gmail.com
END:VEVENT
BEGIN:VEVENT
DTSTART;TZID=America/Puerto_Rico:20250509T133000
DTEND;TZID=America/Puerto_Rico:20250509T160000
DTSTAMP:20260419T111540
CREATED:20250407T163813Z
LAST-MODIFIED:20250407T163813Z
UID:16401-1746797400-1746806400@prltap.org
SUMMARY:Webinar: Estrategias para una Transportación Eficiente y Sostenible
DESCRIPTION:REGISTRO \n  \nFECHA y HORA:\nViernes\, 9 de mayo de 2025\n1:50 PM – 4:00 PM (la sala virtual abrirá a la 1:30 PM) \nHORAS CONTACTO: Dos (2) horas técnicas aplicables a ingenieros y generales para agrimensores del CIAPR que participen en su totalidad. \n***La determinación final en cuanto a la adjudicación de las horas contacto dependerá de los requisitos y regulaciones vigentes del CIAPR.*** \nPLATAFORMA: \nGoToWebinar \nINSTRUCTOR: \nPedro Tarafa Vélez\, PhD\, PE\nCatedrático\nDepartamento de Ingeniería Civil y Agrimensura\nUPR – Recinto Universitario de Mayagüez \n  \nREQUERIMIENTOS PARA CUALIFICAR PARA LAS HORAS CONTACTO DEL CIAPR \n\nParticipar en el tiempo mínimo de participación requerido: 2:10 PM a 4:00 PM.\nDurante el adiestramiento el Instructor mencionará cuatro (4) palabras claves.\nLuego de finalizado el adiestramiento\, los participantes deben completar un formulario digital para escribir las cuatro (4) palabras claves mencionadas por el Instructor.\nDebe tener correctas al menos tres (3) de las palabras claves para cualificar para las horas contacto.\nTendrá solo una oportunidad para contestar el formulario en un periodo de 48 horas de días laborables luego de finalizado el adiestramiento.\n\n  \nOBJETIVOS \n\nIntroducir a los participantes en el tema de la contaminación de aire\nEntender los desafíos actuales en el sector de la transportación\nExplorar estrategias para reducir las emisiones al aire de fuentes móviles.\nPresentar alternativas para reducir las emisiones\n\nTEMAS \n\nIntroducción a la contaminación de aire y gases de efecto de invernadero\nEfectos de los contaminantes en aire a la salud\, ambiente y a la propiedad\nContaminantes de aire producto de la transportación\nEstándares y normativas de calidad de aire\nEstrategias para minimizar/reducir las emisiones de contaminantes en aire de fuentes móviles\nDesafíos y soluciones en Puerto Rico\n\n  \nCONTACTOS: \nCentro de Transferencia de Tecnología en Transportación\nSrta. Ciara Toro Rosario (ciara.toro@upr.edu)\nSrta. Cristina Riberas González (cristina.riberas@upr.edu)\nTeléfonos: 787-834-6385 (Directo)\n787-832-4040\, Exts. 3393/3403 \nACT\nAimee Dilán (adilan@act.pr.gov)\nPaola N. Fuster (pfuster@act.pr.gov)\nTeléfono: 787-721-8787\, Exts. 57220/52049 \nNOTA: Persona de la ACT favor enviar la Forma ACT 770 y completar el formulario de registro.
URL:https://prltap.org/eng/event/webinar-estrategias-para-una-transportacion-eficiente-y-sostenible/
CATEGORIES:Webinar
ORGANIZER;CN="PRLTAP":MAILTO:prt2.webmaster@gmail.com
END:VEVENT
BEGIN:VEVENT
DTSTART;TZID=America/Puerto_Rico:20250513T080000
DTEND;TZID=America/Puerto_Rico:20250513T120000
DTSTAMP:20260419T111540
CREATED:20250502T161130Z
LAST-MODIFIED:20250502T161130Z
UID:16599-1747123200-1747137600@prltap.org
SUMMARY:Conceptos Básicos de Deslizamientos de Tierra y Prácticas de Mitigación
DESCRIPTION:REGISTRO \n  \nFECHA Y HORA:\nMartes\, 13 de mayo de 2025\nRegistro: 8:00 AM – 8:30 AM\n8:30 AM – 12:00 PM\nHoras Contacto: Tres (3) horas técnicas para ingenieros y generales para agrimensores del CIAPR. \nLUGAR:\nCIAPR\, Capítulo de Ponce\nBoulevard Ruth Fernández #75\nUrb. El Madrigal\nPonce\, Puerto Rico 00730 \nINSTRUCTORA:\nDra. Beatriz I. Camacho Padrón\nCatedrática Asociada\nDepartamento de Ingeniería Civil y Agrimensura\nUPR – Recinto Universitario de Mayagüez \n  \nTEMAS DEL CURSO:\n\nConceptos básicos relacionados con deslizamientos de tierra tales como tipos de deslizamientos.\nConceptos básicos relacionados con los métodos de análisis geotécnicos.\nConceptos básicos relacionados con medidas de mitigación.\n\n  \nINFORMACIÓN DE CONTACTO: \nCentro de Transferencia de Tecnología en Transportación\nSrta. Ciara Toro Rosario (ciara.toro@upr.edu)\nSrta. Cristina Riberas González (cristina.riberas@upr.edu)\nTeléfono: 787-834-6385 (Directo)\n787-832-4040 Exts. 3393\, 3403 \nAutoridad de Carreteras y Transportación (ACT)\nAimee Dilán (adilan@act.pr.gov)\nPaola N. Fuster (pfuster@act.pr.gov)\nTeléfono: 787-721-8787 Exts. 57220 / 52049 \nNOTA: Favor enviar la Forma ACT 770 y completar el formulario de registro.
URL:https://prltap.org/eng/event/conceptos-basicos-de-deslizamientos-de-tierra-y-practicas-de-mitigacion/
LOCATION:CIAPR Capítulo de Ponce\, Boulevard Ruth Fernández #75 Urbanización El Madrigal\, Ponce\, 00730\, Puerto Rico
CATEGORIES:Seminar
ORGANIZER;CN="PRLTAP":MAILTO:prt2.webmaster@gmail.com
END:VEVENT
BEGIN:VEVENT
DTSTART;TZID=America/Puerto_Rico:20250513T090000
DTEND;TZID=America/Puerto_Rico:20250513T113000
DTSTAMP:20260419T111540
CREATED:20250502T160626Z
LAST-MODIFIED:20250502T161122Z
UID:16593-1747126800-1747135800@prltap.org
SUMMARY:Webinar | Módulo 4 de la Certificación "Road Safety Champion (RSC)":  Descripción General del MUTCD
DESCRIPTION:REGISTRO \n  \nFECHA Y HORA: \nMartes\, 13 de mayo de 2025\n9:20 AM a 11:30 AM (AST)\n(la sala virtual abrirá a las 9:00 AM) \nHoras Contacto: Dos (2) horas técnicas para ingenieros y generales para agrimensores del CIAPR\n***La determinación final en cuanto a la adjudicación de las Horas Contacto (HC)\, dependerá de los requisitos y regulaciones vigentes del CIAPR.*** \nPLATAFORMA:\nGoToWebinar \nINSTRUCTOR:\nDr. Alberto M. Figueroa Medina\nCatedrático\nDepartamento de Ingeniería Civil y Agrimensura\nUPR-Recinto de Mayagüez \n  \nOBJETIVOS\nLos participantes comprenderán el propósito del Manual de Dispositivos Uniforme del Control de Tráfico (MUTCD) y cómo usarlo. \nTEMAS A CUBRIRSE \n\nPropósito y organización del MUTCD\nDefiniciones claves\nPropósito y Principios de los Dispositivos de Control de Tráfico (TCD)\nFundamentos y tipos de rotulación y marcado del pavimento\nRequisitos de los semáforos y tipos de indicaciones\n\n  \nREQUERIMIENTOS PARA CUALIFICAR PARA LAS HORAS CONTACTO DEL CIAPR: \n\nParticipar en el tiempo mínimo de participación requerido: 9:40 AM a 11:30 AM.\nDurante el adiestramiento el Instructor mencionará cuatro (4) palabras claves.\nLuego de finalizado el adiestramiento\, los participantes deben completar un formulario digital para escribir las cuatro (4) palabras claves mencionadas por el Instructor.\nDebe tener correctas al menos tres (3) de las palabras claves para cualificar para las horas contacto.\nTendrá solo una oportunidad para contestar el formulario en un periodo de 48 horas de días laborables luego de finalizado el adiestramiento.\n\n  \nINFORMACIÓN DE CONTACTO\nCentro de Transferencia de Tecnología en Transportación\nSrta. Ciara Toro Rosario (ciara.toro@upr.edu)\nSrta. Cristina Riberas González (cristina.riberas@upr.edu)\nTeléfonos: 787-834-6385 (Directo)\n787-832-4040 Exts. 3393\, 3403ACT\nAimee Dilán (adilan@act.pr.gov)\nPaola N. Fuster (pfuster@act.pr.gov)\nTeléfono: 787-721-8787 Exts. 57220 / 52049\nNOTA: Favor enviar la Forma ACT 770 y completar el registro.
URL:https://prltap.org/eng/event/webinar-modulo-4-de-la-certificacion-road-safety-champion-rsc-descripcion-general-del-mutcd-2/
CATEGORIES:Webinar
ORGANIZER;CN="PRLTAP":MAILTO:prt2.webmaster@gmail.com
END:VEVENT
BEGIN:VEVENT
DTSTART;TZID=America/Puerto_Rico:20250516T093000
DTEND;TZID=America/Puerto_Rico:20250516T120000
DTSTAMP:20260419T111540
CREATED:20250502T161124Z
LAST-MODIFIED:20250502T161124Z
UID:16594-1747387800-1747396800@prltap.org
SUMMARY:Webinar: Considerando Accesibilidad y Movilidad en la Transportación para todos los Usuarios
DESCRIPTION:REGISTRO \n  \nFECHA Y HORA:\nViernes\, 16 de mayo de 2025\n9:50 AM – 12:00 PM (AST)\n(la sala virtual abrirá a las 9:30 AM) \nHORAS CONTACTO: Dos (2) técnicas para ingenieros y generales para agrimensores del CIAPR que participen en su totalidad. \n***La determinación final en cuanto a las adjudicación de las Horas Contacto (HC) dependerá de los requisitos y regulaciones vigentes del CIAPR.*** \nPLATAFORMA:\nGoToWebinar \nINSTRUCTOR:\nDr. Daniel Rodríguez Román\nCatedrático\nDepartamento de Ingeniería Civil y Agrimensura\nUPR-Recinto de Mayagüez \n  \nOBJETIVOS: \n\nIntroducir definiciones\, conceptos y regulaciones relacionadas a la accesibilidad y la movilidad.\nExplorar los desafíos y necesidades de los diversos grupos de usuarios.\nExaminar estrategias para planificación y diseño del transporte considerando la diversidad de usuarios en la sociedad.\n\nTEMAS: \n\nDefiniciones de accesibilidad y la movilidad en el transporte.\nLeyes federales y accesibilidad en el transporte.\nDiversidad de necesidades de los usuarios de transporte.\nBarreras a la accesibilidad en el transporte.\nEjemplos de diseños de sistemas de transporte eficientes y accesibles para todos\, incluyendo:\n\nTransporte público\nMicromovilidad\nCalles completas\n\n\n\n  \nREQUERIMIENTOS PARA CUALIFICAR PARA LAS HORAS CONTACTO DEL CIAPR:  \n\nAsistir en el tiempo mínimo de participación requerido de 10:10 AM a 12:00 PM.\nDurante el adiestramiento el Instructor mencionará cuatro (4) palabras claves.\nLuego de finalizado el adiestramiento\, los participantes deben completar un formulario digital para escribir las cuatro (4) palabras claves mencionadas por el Instructor.\nDebe tener correctas al menos tres (3) de las palabras claves para cualificar para las horas contacto.\nTendrá solo una oportunidad para contestar el formulario en un periodo de 48 horas de días laborables luego de finalizado el adiestramiento.\n\n  \nINFORMACIÓN DE CONTACTO: \nCentro de Transferencia de Tecnología en Transportación\nSrta. Ciara Toro Rosario (ciara.toro@upr.edu)\nSrta. Cristina Riberas González (cristina.riberas@upr.edu)\nTeléfono: 787-834-6385 (Directo)\n787-832-4040 Exts. 3393\, 3403 \nACT\nAimee Dilán (adilan@act.pr.gov)\nPaola N. Fuster (pfuster@act.pr.gov)\nTeléfono: 787-721-8787 Exts. 57220 / 52049\nNOTA: Favor enviar la Forma ACT 770 y completar el registro.
URL:https://prltap.org/eng/event/webinar-considerando-accesibilidad-y-movilidad-en-la-transportacion-para-todos-los-usuarios/
CATEGORIES:Webinar
ORGANIZER;CN="PRLTAP":MAILTO:prt2.webmaster@gmail.com
END:VEVENT
BEGIN:VEVENT
DTSTART;TZID=America/Puerto_Rico:20250520T080000
DTEND;TZID=America/Puerto_Rico:20250520T120000
DTSTAMP:20260419T111540
CREATED:20250502T161120Z
LAST-MODIFIED:20250502T161135Z
UID:16595-1747728000-1747742400@prltap.org
SUMMARY:CONGRESO EDC 7: TECNOLOGÍAS INNOVADORAS PARA EL MANEJO DE TRÁNSITO EN INCIDENTES
DESCRIPTION:REGISTRO \n  \nFECHA Y HORA:\nMartes\, 20 de mayo de 2025\n8:00 AM Registro\n8:30 AM – 12:00 PM \nHoras contacto: 3 horas técnicas para ingenieros y horas generales para agrimensores del CIAPR. \n  \nLUGAR:\nSede del Colegio de Ingenieros y Agrimensores de Puerto Rico\nTeatro Ing. Salvador Caro\nAve. Domenech\, Calle Ing. Antolín Nin Martínez\nHato Rey\, Puerto Rico \n  \nAGENDA: \n8:00 AM – 8:30 AM Registro\n8:30 AM – 8:40 AM Mensajes de Bienvenida \n8:40 AM – 9:00 AM\nVisión Estratégica de Seguridad en el Manejo de Incidentes en Carreteras\nDr. Edwin E. González Montalvo\, Secretario\nDepartamento de Transportación y Obras Públicas \n9:00 AM – 9:20 AM\nPrograma EDC en Puerto Rico y Resultados de la Iniciativa TIM a Nivel Nacional\nDr. Didier M. Valdés Díaz\, Co-Director\nCentro de Transferencia de Tecnología en Transportación \n9:20 AM – 9:40 AM\nPerspectiva Operativa en el Manejo de Incidentes de Tránsito en Autopista\nSra. Aida Merlín West\, Gerente Senior de Tráfico y Vialidad\nMetropistas \n9:40 AM – 10:10 AM\nAnálisis de Datos sobre el Manejo de Incidentes de Tránsito en Puerto Rico\nIng. Irene Soria Cordero\, Directora de Operaciones de Tránsito\nSra. Luz M. Falcón\, Gerente del Centro de Manejo de Tránsito\nMetric Engineering of Puerto Rico \n10:10 AM – 10:25 AM\nReceso \n10:25 AM – 11:05 AM\nProtocolos y Resultados de Implementación de Tecnologías EDC 7 – TIM:\nPit-lit\, Lane Blade y Advanced Queue Warning\nIng. Josué Cruz Martínez\, Ingeniero en Transportación\nCMA Architects & Engineers LLC \n11:05 AM – 11:25 AM\nAplicaciones del Uso de Drones para el Manejo de Incidentes en Autopistas\nSr. Alberto Riego\, Gerente General\nPaladius – Skydio \n11:25 AM – 11:55 AM\nUso de Drones para el Monitoreo del Tráfico\, Análisis y Reconstrucción de Escenas de Incidentes\nAgente José R. Hiraldo Benítez\nDepartamento de Seguridad Pública \n11:55 AM – 12:00 PM\n \nClausura
URL:https://prltap.org/eng/event/congreso-edc-7-tecnologias-innovadoras-para-el-manejo-de-transito-en-incidentes/
LOCATION:Sede del Colegio de Ingenieros y Agrimensores de Puerto Rico\, Salón Ing. Carlos Salgado Ave. Domenech\, Calle Ing. Antolín Nin\, Hato Rey\, Puerto Rico
CATEGORIES:Seminar
ORGANIZER;CN="PRLTAP":MAILTO:prt2.webmaster@gmail.com
END:VEVENT
BEGIN:VEVENT
DTSTART;TZID=America/Puerto_Rico:20250521T080000
DTEND;TZID=America/Puerto_Rico:20250521T120000
DTSTAMP:20260419T111540
CREATED:20250502T161128Z
LAST-MODIFIED:20250502T161128Z
UID:16597-1747814400-1747828800@prltap.org
SUMMARY:Evaluación Geomática: Áreas de Deslizamientos de Tierra cerca a las Carreteras
DESCRIPTION:REGISTRO \n  \nFECHA y HORA:\nMiércoles\, 21 de mayo de 2025\n8:00 AM Registro\n8:30 AM – 12:00 PM \nHoras Contacto: Tres (3) horas técnicas aplicables a ingenieros y agrimensores del CIAPR que participen en su totalidad. \nLUGAR:\nCentro Tecnológico Municipal de Moca\nCarr. 110 Calle Monseñor J. Torres\, Esquina\, CII Mario Medin\nMoca\, Puerto Rico 00676 \nINSTRUCTORA:\nEvi De la Rosa Ricciardi\, PhD\, PS\nCatedrática\nDepartamento de Ingeniería Civil y Agrimensura\nUPR – Recinto de Mayagüez \n  \nOBJETIVOS \n\nEstudiar los deslizamientos de terrenos y discutir algunas guías existentes en Puerto Rico.\nDefinir fuentes de información para definir niveles de riesgo a deslizamientos de tierra.\nConocer las consideraciones de seguridad en las carreteras\, las recomendaciones de MUTCD y posible TTC que guían\, advierten y protegen a los usuarios de la vía y a los trabajadores.\nIdentificar los sistemas de coordenadas planas estatales para Puerto Rico e Islas Vírgenes (Lambert) y las coordenadas del sistema Universal Transversal Mercator (UTM).\nEstablecer los criterios de georreferenciación por parte de las agencias gubernamentales de Puerto Rico.\nEstudiar los datum de referencia de acuerdo al método utilizado en la recolección de datos.\nDefinir la evaluación de áreas de deslizamiento de terrenos desde el reconocimiento hasta la recolección de datos.\nAnalizar el proceso de documentación de casos de deslizamientos de carreteras en Puerto Rico.\n\n  \nTEMAS A CUBRIRSE \n\nIntroducción\nDefiniciones y Terminología\n\nDeslizamientos de Tierra\nGuía de Deslizamientos\nPartes de un Deslizamiento\n\n\nConsideraciones de Seguridad en las Carreteras\nSistemas de Coordenadas\n\nDatums\n\n\nEvaluación de Áreas de Deslizamientos\n\nReconocimiento\nRecolección de Datos\nMétodos de Campo\nProductos\n\n\nCasos\nRecomendaciones\n\n  \nINFORMACIÓN DE CONTACTO: \nCentro de Transferencia de Tecnología en Transportación\nSrta. Ciara Toro Rosario: ciara.toro@upr.edu\nSrta. Cristina M. Riberas: cristina.riberas@upr.edu\nTeléfonos: 787-834-6385 (Directo)\n787-832-4040 Exts. 3393\, 3403 \nAutoridad de Carreteras y Transportación (ACT)\nAimee Dilán (adilan@act.pr.gov)\nPaola Fuster (pfuster@act.pr.gov)\nTeléfono: 787-721-8787; Ext. 51044\nNOTA: Favor enviar la Forma ACT 770 y completar el formulario de registro.
URL:https://prltap.org/eng/event/evaluacion-geomatica-areas-de-deslizamientos-de-tierra-cerca-a-las-carreteras/
LOCATION:Centro Tecnológico Municipal de Moca\, Carr. 110 Calle Monseñor J. Torres\, Esquina CII Mario Medin\, Moca\, PR\, 00676\, Puerto Rico
CATEGORIES:Seminar
ORGANIZER;CN="PRLTAP":MAILTO:prt2.webmaster@gmail.com
END:VEVENT
BEGIN:VEVENT
DTSTART;TZID=America/Puerto_Rico:20250522T080000
DTEND;TZID=America/Puerto_Rico:20250522T163000
DTSTAMP:20260419T111540
CREATED:20250502T161126Z
LAST-MODIFIED:20250502T161126Z
UID:16596-1747900800-1747931400@prltap.org
SUMMARY:Construcción e Inspección de Pavimentos Flexibles: Control de Calidad y Desempeño
DESCRIPTION:REGISTRO \n  \nFECHA y HORA:\nJueves\, 22 de mayo de 2025\n8:00 AM Registro\n8:30 AM – 4:30 PM \nHoras Contacto: Seis (6) horas técnicas aplicables a ingenieros y generales para agrimensores del CIAPR que participen en su totalidad. \nLUGAR:\nAuditorio\, Edificio de Ingeniería Civil y Agrimensura\nUniversidad de Puerto Rico\nRecinto Universitario de Mayagüez \nINSTRUCTOR:\nFreddie Salado Martínez\, PhD\, PE\nIngeniero en Transportación\nPresidente SIE Consultants LLC \n  \nTEMAS DEL CURSO: \nIntroducción \n\nDescripción de lo que es una mezcla asfáltica.\nDescripción general del proceso de construcción de pavimentos con mezclas asfálticas.\nEspecificaciones estándares\, suplementarias\, especiales y procedimientos interinos de la Autoridad de Carreteras y Transportación de Puerto Rico.\nResponsabilidades de un inspector de proyecto.\n\nPreparación de la Superficie \n\nEtapas generales: escarificación\, limpieza de la superficie y aplicación de la emulsión asfáltica (TackCoat).\nFactores que afectan la superficie escarificada.\nProceso de aplicación de la emulsión asfáltica (TackCoat).\n\nProducción y Transporte de la Mezcla Asfáltica \n\nMateriales de Construcción.\nFormulación de mezclas asfálticas tibias (Job Mix Formula).\nPlantas de producción.\nTransporte de las mezclas asfálticas.\n\nColocación y Compactación \n\nLista de cotejo de equipos del inspector.\nInspección antes y durante la pavimentación.\nRequerimientos de la compactación.\n\nMuestreo y Análisis para el Control de Calidad \n\nProcedimientos típicos de muestreo y análisis.\nInspección visual.\n\nPrácticas Deficientes y Solución de Problemas Durante la Inspección \n  \nINFORMACIÓN DE CONTACTO: \nCentro de Transferencia de Tecnología en Transportación\nSrta. Ciara Toro Rosario: ciara.toro@upr.edu\nSrta. Cristina M. Riberas: cristina.riberas@upr.edu\nTeléfonos: 787-834-6385 (Directo)\n787-832-4040 Exts. 3393\, 3403 \nAutoridad de Carreteras y Transportación (ACT)\nAimee Dilán (adilan@act.pr.gov)\nPaola Fuster (pfuster@act.pr.gov)\nTeléfono: 787-721-8787; Ext. 51044\nNOTA: Favor enviar la Forma ACT 770 y completar el formulario de registro.
URL:https://prltap.org/eng/event/construccion-e-inspeccion-de-pavimentos-flexibles-control-de-calidad-y-desempeno/
LOCATION:Auditorio\, Edificio de Ingeniería Civil y Agrimensura Universidad de Puerto Rico Recinto Universitario de Mayagüez\, Mayagüez\, 00680\, Puerto Rico
CATEGORIES:Seminar
ORGANIZER;CN="PRLTAP":MAILTO:prt2.webmaster@gmail.com
END:VEVENT
BEGIN:VEVENT
DTSTART;TZID=America/Puerto_Rico:20250530T080000
DTEND;TZID=America/Puerto_Rico:20250530T163000
DTSTAMP:20260419T111540
CREATED:20250502T161131Z
LAST-MODIFIED:20250515T192505Z
UID:16600-1748592000-1748622600@prltap.org
SUMMARY:Taller del Uso de SYNCHRO para Modelar una Intersección Semaforizada Aislada
DESCRIPTION:REGISTRO \n  \nFECHA y HORA:\nViernes\, 30 de mayo de 2025\n8:00 AM Registro\n8:30 AM – 4:30 PM \nHoras Contacto: Seis (6) horas técnicas aplicables a ingenieros y generales para agrimensores del CIAPR que participen en su totalidad. \nLUGAR:\nSalón CAIRel\, Edificio de Ingeniería Civil y Agrimensura\nUniversidad de Puerto Rico\nRecinto Universitario de Mayagüez \nINSTRUCTOR:\nDr. Alberto Figueroa Medina\nCatedrático\nDepartamento de Ingeniería Civil y Agrimensura\nUPR-Recinto de Mayagüez \n  \nOBJETIVOS: \n\nPresentar los conceptos básicos en la operación de una intersección aislada con semáforos.\nDemostrar el uso del programa de computadora Synchro Studio para la evaluación de la operación de la intersección .\nDesarrollar un taller con un ejemplo práctico de la evaluación de un estudio operacional en una intersección aislada con semáforo con el programa Synchro Studio.\n\n  \nINFORMACIÓN DE CONTACTO: \nCentro de Transferencia de Tecnología en Transportación\nSrta. Ciara Toro Rosario: ciara.toro@upr.edu\nSrta. Cristina M. Riberas: cristina.riberas@upr.edu\nTeléfonos: 787-834-6385 (Directo)\n787-832-4040 Exts. 3393\, 3403 \nAutoridad de Carreteras y Transportación (ACT)\nAimee Dilán (adilan@act.pr.gov)\nPaola Fuster (pfuster@act.pr.gov)\nTeléfono: 787-721-8787; Ext. 51044 \nNOTA: Favor enviar la Forma ACT 770 y completar el formulario de registro.
URL:https://prltap.org/eng/event/taller-del-uso-de-synchro-para-modelar-una-interseccion-semaforizada-aislada/
LOCATION:Salón CAIRel\, Edificio de Ingeniería Civil y Agrimensura Universidad de Puerto Rico Recinto Universitario de Mayagüez\, Mayaguez\, 00680\, Puerto Rico
CATEGORIES:Seminar
ORGANIZER;CN="PRLTAP":MAILTO:prt2.webmaster@gmail.com
END:VEVENT
END:VCALENDAR