BEGIN:VCALENDAR
VERSION:2.0
PRODID:-//T2 Center - ECPv6.15.18//NONSGML v1.0//EN
CALSCALE:GREGORIAN
METHOD:PUBLISH
X-ORIGINAL-URL:https://prltap.org/eng
X-WR-CALDESC:Events for T2 Center
REFRESH-INTERVAL;VALUE=DURATION:PT1H
X-Robots-Tag:noindex
X-PUBLISHED-TTL:PT1H
BEGIN:VTIMEZONE
TZID:America/Puerto_Rico
BEGIN:STANDARD
TZOFFSETFROM:-0400
TZOFFSETTO:-0400
TZNAME:AST
DTSTART:20230101T000000
END:STANDARD
END:VTIMEZONE
BEGIN:VEVENT
DTSTART;TZID=America/Puerto_Rico:20241203T083000
DTEND;TZID=America/Puerto_Rico:20241203T110000
DTSTAMP:20260422T185911
CREATED:20241122T153232Z
LAST-MODIFIED:20241122T153232Z
UID:15178-1733214600-1733223600@prltap.org
SUMMARY:Webinar: Guías Prácticas para la Implementación de Auditorías de Seguridad Vial (ASV)
DESCRIPTION:REGISTRO \n  \nFECHA y HORA:\nMartes\, 3 de diciembre de 2024\n8:50 am – 11:00 am (AST)\n(la sala virtual abrirá a las 8:30 am) \n  \nHoras Contacto: Dos (2) horas técnicas aplicables a ingenieros y generales para agrimensores del CIAPR que participen en su totalidad. \n**La determinación final en cuanto a la adjudicación de las Horas Contacto (HC)\, dependerá de los requisitos y regulaciones vigentes del CIAPR.** \n  \nPLATAFORMA:\nGoToWebinar \n  \nINSTRUCTOR: \nDr. Didier Valdés Díaz\nCatedrático\nDepartamento de Ingeniería Civil y Agrimensura\nUPR – Recinto de Mayagüez \n  \nTEMAS DEL CURSO:  \n\nIntroducción e importancia de Auditoría en Seguridad Vial (ASV).\nDefiniciones básicas\, elementos fundamentales que se deben considerar para una ASV.\nComposición del equipo de trabajo.\nMetodología de la Administración Federal de Carreteras (FHWA) del Departamento de Transportación de los Estados Unidos (USDOT) para implantar ASV aplicables a zonas rurales y urbanas.\nBeneficios esperados.\nEstructuración de programas ASV.\nMetas y medidas de desempeño.\nUso adecuado de listas de cotejos (prompt lists) en ASV.\nRetos y desafíos.\n\n  \nINFORMACIÓN DE CONTACTO: \nCentro de Transferencia de Tecnología en Transportación\nSrta. Ciara Toro Rosario (ciara.toro@upr.edu)\nSrta. Cristina Riberas González (cristina.riberas@upr.edu)\nTeléfonos: 787-834-6385 (Directo)\n787-832-4040 Exts. 3393\, 3403 \n  \nNOTA: Empleados de Entidades Gubernamentales deben solicitar a la Oficina de Administración y Transformación de los Recursos Humanos (OATRH) una dispensa para participar del adiestramiento (Carta Normativa Especial Núm. 1-2024). Para dudas o información adicional favor de comunicarse al correo electrónico info@oatrh.pr.gov o al teléfono 787-274-4300. \n  \n***Autorizado por la Oficina del Contralor Electoral\, Núm. OCE-SA-2023-00411***
URL:https://prltap.org/eng/event/webinar-guias-practicas-para-la-implementacion-de-auditorias-de-seguridad-vial-asv/
CATEGORIES:Webinar
ORGANIZER;CN="PRLTAP":MAILTO:prt2.webmaster@gmail.com
END:VEVENT
BEGIN:VEVENT
DTSTART;TZID=America/Puerto_Rico:20241206T073000
DTEND;TZID=America/Puerto_Rico:20241206T120000
DTSTAMP:20260422T185911
CREATED:20241122T152548Z
LAST-MODIFIED:20241122T152548Z
UID:15175-1733470200-1733486400@prltap.org
SUMMARY:Principios Básicos de "Building Information Modeling" para la Infraestructura del Transporte
DESCRIPTION:REGISTRO \n  \nFECHA y HORA:\nViernes\, 6 de diciembre de 2024\n7:30 AM Registro\n8:00 AM – 12:00 PM \nHORAS CONTACTO: Cuatro (4) horas técnicas aplicables a ingenieros y generales para agrimensores del CIAPR que participen en su totalidad. \nLUGAR:\nColegio de Ingenieros y Agrimensores de Puerto Rico\nSalón Ing. Estéban Terrats\nAve. Domenech\, Calle Ing. Antolin Nín Martínez\nHato Rey\, Puerto Rico 00918 \nINSTRUCTOR:\nDr. José L. Perdomo Rivera\nCatedrático\nDepartamento de Ingeniería Civil y Agrimensura\nUPR-Recinto Universitario de Mayagüez \n  \nAUDIENCIA:\nEste seminario está dirigido a personal de la ACT y de los municipios que son ingenieros\, agrimensores\, gerentes de proyectos de construcción\, supervisores y administradores que tienen la responsabilidad de regular\, recomendar y tomar decisiones respecto a proyectos de construcción. \n  \nOBJETIVOS\nFamiliarizar a los participantes con los conceptos básicos de Building Information Modeling (BIM)\, Integrated Project Delivery (IPD) y aplicaciones de BIM en construcción. \n  \nTEMAS A CUBRIRSE: \n\nConceptos básicos\nHerramientas utilizadas\nVentajas de usa BIM\nIntegrated Project Delivery (IPD)\nAplicaciones a proyectos de insfraestructura\n\n  \nNOTA: Empleados y Entidades Gubernamentales deben solicitar a la Oficina de Administración y Transformación de los Recursos Humanos (OATRH) una dispensa para participar del adiestramiento (Carta Normativa Especial Núm. 1-2024). Para dudas o información adicional favor de comunicarse al correo electrónico info@oatrh.pr.gov o al teléfono 787-274-4300. \n  \nINFORMACIÓN DE CONTACTO: \nCentro de Transferencia de Tecnología en Transportación\nSrta. Ciara Toro Rosario (ciara.toro@upr.edu)\nSrta. Cristina Riberas González (cristina.riberas@upr.edu)\nTeléfono: 787-834-6385 (Directo)\n787-832-4040 Exts. 3393\, 3403 \nAutoridad de Carreteras y Transportación (ACT)\nAimee Dilán (adilan@act.pr.gov)\nPaola N. Fuster (pfuster@act.pr.gov)\nTeléfono: 787-721-8787 Exts.57220 / 52049\nNOTA: Favor enviar la Forma ACT 770 y completar el formulario de registro. \n  \n***Autorizado por la Oficina del Contralor Electoral\, Núm. OCE-SA-2023-00411***
URL:https://prltap.org/eng/event/principios-basicos-de-building-information-modeling-para-la-infraestructura-del-transporte/
LOCATION:CIAPR Hato Rey Salón Esteban Terrats\, Ave. Domenech\, Calle Ing. Antolín Nin Martínez\, Hato Rey\, PR\, 00918\, Puerto Rico
CATEGORIES:Seminar
ORGANIZER;CN="PRLTAP":MAILTO:prt2.webmaster@gmail.com
END:VEVENT
END:VCALENDAR