BEGIN:VCALENDAR
VERSION:2.0
PRODID:-//T2 Center - ECPv6.15.18//NONSGML v1.0//EN
CALSCALE:GREGORIAN
METHOD:PUBLISH
X-WR-CALNAME:T2 Center
X-ORIGINAL-URL:https://prltap.org/eng
X-WR-CALDESC:Events for T2 Center
REFRESH-INTERVAL;VALUE=DURATION:PT1H
X-Robots-Tag:noindex
X-PUBLISHED-TTL:PT1H
BEGIN:VTIMEZONE
TZID:America/Puerto_Rico
BEGIN:STANDARD
TZOFFSETFROM:-0400
TZOFFSETTO:-0400
TZNAME:AST
DTSTART:20250101T000000
END:STANDARD
END:VTIMEZONE
BEGIN:VEVENT
DTSTART;TZID=America/Puerto_Rico:20260505T083000
DTEND;TZID=America/Puerto_Rico:20260505T120000
DTSTAMP:20260419T204222
CREATED:20260419T194909Z
LAST-MODIFIED:20260419T194909Z
UID:19582-1777969800-1777982400@prltap.org
SUMMARY:WEBINAR | Estadísticas Descriptivas y   Análisis de Datos de Transportación usando Excel
DESCRIPTION:REGISTRO \n  \nFECHA:\nMartes\, 5 de mayo de 2026 \n  \nHORA:\n8:50 am a 12:00 pm AST (la sala virtual abrirá a las 8:30 am) \n  \nHORAS CONTACTO: Tres (3) horas técnicas para ingenieros y generales para agrimensores del CIAPR. \n  \nPLATAFORMA:\nGoToWebinar \n  \nINSTRUCTOR:\nDr. Daniel Rodríguez Román\nCatedrático\nDepartamento de Ingeniería Civil y Agrimensura\nUPR-Recinto de Mayagüez \n  \nREQUERIMIENTOS PARA CUALIFICAR PARA LAS HORAS CONTACTO DEL CIAPR: \n\nAsistir en el tiempo mínimo de participación requerido de 9:15 AM a 12:00 PM.\nDurante el adiestramiento el Instructor mencionará cuatro (4) palabras claves.\nLuego de finalizado el adiestramiento\, los participantes deben completar un formulario digital para escribir las cuatro (4) palabras claves mencionadas por el Instructor.\nDebe tener correctas al menos tres (3) de las palabras claves para cualificar para las horas contacto.\nTendrá solo una oportunidad para contestar el formulario en un periodo de 48 horas de días laborables luego de finalizado el adiestramiento.\n\n  \nDESCRIPCIÓN: \nEste taller práctico está diseñado para introducir el uso de herramientas estadísticas básicas aplicadas a situaciones reales del ámbito laboral. A través de ejercicios sencillos y utilizando Excel como herramienta principal\, los participantes aprenderán a describir\, visualizar y analizar datos de manera efectiva.\n\n  \nOBJETIVOS: \n\n\nFamiliarizar a los participantes con conceptos fundamentales de estadística aplicada.\nCapacitar en el uso de Excel como herramienta para el análisis estadístico básico.\nAplicar técnicas estadísticas a situaciones reales relacionadas con el transporte.\n\n  \n  \nTEMAS:\n\nEstadística Descriptiva\n\nMedidas de tendencia central: media\, mediana\, moda\nMedidas de dispersión: rango\, varianza\, desviación estándar\n\n\nRepresentación visual de datos\n\nHistogramas\nDiagramas de caja\nGráficos de dispersión y de líneas\n\n\nPruebas de comparaciones\n\nPrueba t para una muestra\nPrueba t para dos muestras\n\n\nAnálisis de regresión lineal\n\n  \nREQUISITOS PARA EL PARTICIPANTE: \n\nConocimiento básico de conceptos estadísticos (media\, desviación estándar\, gráficos simples).\nFamiliaridad con el uso básico de Excel (abrir archivos\, ingresar datos\, usar funciones simples).\n\n  \nINFORMACIÓN DE CONTACTO: \nCentro de Transferencia de Tecnología en Transportación\nCiara Toro Rosario: ciara.toro@upr.edu\nCristina Riberas González: cristina.riberas@upr.edu \nACT\nJamilis Medina: jammedina@act.pr.gov\nTeléfono: 787-721-8787 Exts. 57220 / 52049 \nNOTA: Favor enviar la Forma ACT 770 y completar el registro.
URL:https://prltap.org/eng/event/webinar-estadisticas-descriptivas-y-analisis-de-datos-de-transportacion-usando-excel-2/
CATEGORIES:Webinar
ORGANIZER;CN="PRLTAP":MAILTO:prt2.webmaster@gmail.com
END:VEVENT
END:VCALENDAR