BEGIN:VCALENDAR
VERSION:2.0
PRODID:-//T2 Center - ECPv6.15.18//NONSGML v1.0//EN
CALSCALE:GREGORIAN
METHOD:PUBLISH
X-WR-CALNAME:T2 Center
X-ORIGINAL-URL:https://prltap.org/eng
X-WR-CALDESC:Events for T2 Center
REFRESH-INTERVAL;VALUE=DURATION:PT1H
X-Robots-Tag:noindex
X-PUBLISHED-TTL:PT1H
BEGIN:VTIMEZONE
TZID:America/Puerto_Rico
BEGIN:STANDARD
TZOFFSETFROM:-0400
TZOFFSETTO:-0400
TZNAME:AST
DTSTART:20250101T000000
END:STANDARD
END:VTIMEZONE
BEGIN:VEVENT
DTSTART;TZID=America/Puerto_Rico:20260213T090000
DTEND;TZID=America/Puerto_Rico:20260213T113000
DTSTAMP:20260424T035215
CREATED:20260128T142953Z
LAST-MODIFIED:20260128T142953Z
UID:19297-1770973200-1770982200@prltap.org
SUMMARY:Webinar | Certificado "Road Safety Champion (RSC)"  Ruta Profesional de Mantenimiento y Construcción | Ruta Profesional de Planificación e Ingeniería | Módulo 2: Zonas de Trabajo
DESCRIPTION:REGISTRO \n  \nFECHA Y HORA:\nViernes\, 13 de febrero de 2026\n9:20 AM a 11:30 AM (AST)\n(la sala virtual abrirá a las 9:00 AM) \n  \nHoras Contacto: Dos (2) horas técnicas para ingenieros y generales para agrimensores del CIAPR. \n  \nPLATAFORMA:\nGoToWebinar \n  \nINSTRUCTOR:\nDr. Alberto M. Figueroa Medina\, PE\nCatedrático\nDepartamento de Ingeniería Civil y Agrimensura\nUPR-Recinto Universitario de Mayagüez \n  \nREQUERIMIENTOS PARA CUALIFICAR PARA LAS HORAS CONTACTO DEL CIAPR:\n\nParticipar en el tiempo mínimo de participación requerido: 9:40 AM a 11:30 AM.\nDurante el adiestramiento el Instructor mencionará cuatro (4) palabras claves.\nLuego de finalizado el adiestramiento\, los participantes deben completar un formulario digital para escribir las cuatro (4) palabras claves mencionadas por el Instructor.\nDebe tener correctas al menos tres (3) de las palabras claves para cualificar para las horas contacto.\nTendrá solo una oportunidad para contestar el formulario en un periodo de 48 horas de días laborables luego de finalizado el adiestramiento.\n\n  \nOBJETIVO\nAl completar este módulo\, los participantes podrán explicar el propósito del Control Temporero de Tráfico en zonas de construcción de carreteras rurales y locales. \n  \nTEMAS A CUBRIRSE \n\nRevisión del MUTCD\nFundamentos de las Zonas de Trabajo en Carreteras\nDispositivos para el Control Temporero de Tráfico\nEscenarios Comunes del Control Temporero de Tráfico\n\n  \nINFORMACIÓN DE CONTACTO:\n\nCentro de Transferencia de Tecnología en Transportación\nSrta. Ciara J. Toro Rosario: ciara.toro@upr.edu\nSrta. Cristina M. Riberas González: cristina.riberas@upr.edu\nTeléfonos: 787-834-6385 (Directo)\n787-832-4040 Exts. 3393\, 3403ACT\nAimee Dilán (adilan@act.pr.gov)\nTeléfono: 787-721-8787 Exts. 57220 / 52049 \n  \nNOTA: Empleados de la ACT favor enviar la Forma ACT 770 y completar el registro.
URL:https://prltap.org/eng/event/webinar-certificado-road-safety-champion-rsc-ruta-profesional-de-mantenimiento-y-construccion-ruta-profesional-de-planificacion-e-ingenieria-modulo-2-zonas-de-trabajo/
CATEGORIES:Webinar
ORGANIZER;CN="PRLTAP":MAILTO:prt2.webmaster@gmail.com
END:VEVENT
END:VCALENDAR