BEGIN:VCALENDAR
VERSION:2.0
PRODID:-//T2 Center - ECPv6.15.18//NONSGML v1.0//EN
CALSCALE:GREGORIAN
METHOD:PUBLISH
X-ORIGINAL-URL:https://prltap.org/eng
X-WR-CALDESC:Events for T2 Center
REFRESH-INTERVAL;VALUE=DURATION:PT1H
X-Robots-Tag:noindex
X-PUBLISHED-TTL:PT1H
BEGIN:VTIMEZONE
TZID:America/Puerto_Rico
BEGIN:STANDARD
TZOFFSETFROM:-0400
TZOFFSETTO:-0400
TZNAME:AST
DTSTART:20240101T000000
END:STANDARD
END:VTIMEZONE
BEGIN:VEVENT
DTSTART;TZID=America/Puerto_Rico:20250916T090000
DTEND;TZID=America/Puerto_Rico:20250916T113000
DTSTAMP:20260423T154200
CREATED:20250903T172533Z
LAST-MODIFIED:20250903T172534Z
UID:17658-1758013200-1758022200@prltap.org
SUMMARY:Webinar | Ética en los Municipios: Principios\, Casos y Buenas Prácticas
DESCRIPTION:REGISTRO \n  \n  \nFECHA Y HORA:\nMartes\, 16 de septiembre de 2025\n9:20 AM – 11:30 AM\n(la sala virtual abrirá a la 9:00 AM) \n  \nHoras Contacto: Dos (2) horas generales para ingenieros y agrimensores del CIAPR. \n  \nPLATAFORMA:\nGoToWebinar \n  \nINSTRUCTORA:\nEimynela Pérez Rosario\, J.D.  \n  \nNOTAS DE REQUERIMIENTO DE HORAS CONTACTO DEL CIAPR\n1. Participar en el tiempo mínimo de participación requerido 9:40 am a 11:30 am.\n2. Durante el adiestramiento la Instructora mencionará cuatro (4) palabras claves.\n3. Luego de finalizado el adiestramiento\, los participantes deben completar un formulario digital para escribir las cuatro (4) palabras claves mencionadas por la Instructora.\n4. Debe tener correctas al menos tres (3) de las palabras claves para cualificar para las horas contacto.\n5. Tendrá solo una oportunidad para contestar el formulario en un periodo de 48 horas laborables luego de finalizado el adiestramiento. \n  \n  \n\nOBJETIVOS     \n\nDefinir los conceptos éticos en el contexto del servicio público municipal en Puerto Rico.\nDiscutir el marco legal y regulatorio en Puerto Rico.\nAnalizar cómo esos principios se aplican en actividades y proyectos municipales.\nIdentificar dilemas éticos frecuentes en la gestión municipal.\nPresentar herramientas prácticas para la toma de decisiones oportunas y responsables.\nDiscutir los mecanismos de acción ante escenario que puedan comprometer la ética.\nAnalizar casos de ética en la gestión pública.\n\n  \nTEMAS \n\nI. Introducción \n\nDesarrollo del marco ético regulatorio.\nLa importancia de la ética en la gestión municipal en Puerto Rico.\n\n  \nII. Desarrollo del Marco Legal y Normativo en Puerto Rico\n\nLey de Ética Gubernamental de Puerto Rico (Ley Núm. 1 de 3 de enero de 2012\, según enmendada).\nRol de la Oficina de Ética Gubernamental de Puerto Rico.\nCódigo Municipal de Puerto Rico\, reglamentos y leyes aplicables.\n\n  \nIII. Fundamentos Éticos en el Contexto Municipal\n\nPrincipios universales de ética: integridad\, transparencia\, justicia\, equidad.\nDistinción entre lo legal y lo ético en la función pública.\nResponsabilidad de los alcaldes\, legisladores municipales\, contratistas y empleados.\nDisposiciones sobre conflicto de interés\, prohibiciones y deberes.\nValores aplicables al servicio público en Puerto Rico.\n\n  \nIV. Ética en Actividades\, Proyectos\, y Funciones Municipales\n\nContratación pública y subastas municipales.\nManejo de fondos: estatales\, federales.\nTransparencia en permisos\, planificación y obras de infraestructura.\nParticipación ciudadana y rendición de cuentas.\nCasos de conflictos de interés.\n\n  \nV. ¿Cómo responder ante un dilema ético en la gestión municipal?\n\nAplicación de principios éticos básicos y responsabilidad en los municipios.\nBuenas prácticas para alcaldes\, legisladores municipales\, y contratistas.\nRecomendaciones prácticas para el cumplimiento ético.\nMecanismos de acción ante conductas antiéticas.\nAnálisis de Casos de Ética en Asuntos Gubernamentales y Municipales.\n\n  \n  \nCONTACTOS\n\nCentro de Transferencia de Tecnología en Transportación: \nSrta. Cristina M. Riberas González: cristina.riberas@upr.edu \nTeléfonos: 787-834-6385 (Directo) / 787-832-4040 Exts. 3393\, 3403 \n  \nACT: \nAimee Dilán (adilan@act.pr.gov) \nTeléfono: 787-721-8787 Exts. 57220/52049 \nNOTA: Favor enviar la Forma ACT 770 y completar el formulario de registro. \n 
URL:https://prltap.org/eng/event/webinar-etica-en-los-municipios-principios-casos-y-buenas-practicas/
CATEGORIES:Webinar
ORGANIZER;CN="PRLTAP":MAILTO:prt2.webmaster@gmail.com
END:VEVENT
END:VCALENDAR