BEGIN:VCALENDAR
VERSION:2.0
PRODID:-//T2 Center - ECPv6.15.18//NONSGML v1.0//EN
CALSCALE:GREGORIAN
METHOD:PUBLISH
X-WR-CALNAME:T2 Center
X-ORIGINAL-URL:https://prltap.org/eng
X-WR-CALDESC:Events for T2 Center
REFRESH-INTERVAL;VALUE=DURATION:PT1H
X-Robots-Tag:noindex
X-PUBLISHED-TTL:PT1H
BEGIN:VTIMEZONE
TZID:America/Puerto_Rico
BEGIN:STANDARD
TZOFFSETFROM:-0400
TZOFFSETTO:-0400
TZNAME:AST
DTSTART:20240101T000000
END:STANDARD
END:VTIMEZONE
BEGIN:VEVENT
DTSTART;TZID=America/Puerto_Rico:20251105T090000
DTEND;TZID=America/Puerto_Rico:20251105T113000
DTSTAMP:20260424T172602
CREATED:20251020T174628Z
LAST-MODIFIED:20251020T174628Z
UID:18811-1762333200-1762342200@prltap.org
SUMMARY:Webinar | Módulo 4 de la Certificación "Road Safety Champion (RSC)": Descripción General del MUTCD
DESCRIPTION:REGISTRO \n  \nFECHA Y HORA: \nMiércoles\, 5 de noviembre de 2025\n9:20 AM a 11:30 AM (AST)\n(la sala virtual abrirá a las 9:00 AM)\nHoras Contacto: Dos (2) horas técnicas para ingenieros y generales para agrimensores del CIAPR \n  \n***La determinación final en cuanto a la adjudicación de las Horas Contacto (HC)\, dependerá de los requisitos y regulaciones vigentes del CIAPR.*** \n  \nPLATAFORMA: \nGoToWebinar \n  \nINSTRUCTOR:\nDr. Alberto M. Figueroa Medina\nCatedrático\nDepartamento de Ingeniería Civil y Agrimensura\nUPR-Recinto de Mayagüez \n  \nOBJETIVOS\nLos participantes comprenderán el propósito del Manual de Dispositivos Uniforme del Control de Tráfico (MUTCD) y cómo usarlo. \n  \nTEMAS A CUBRIRSE \n\nPropósito y organización del MUTCD\nDefiniciones claves\nPropósito y Principios de los Dispositivos de Control de Tráfico (TCD)\nFundamentos y tipos de rotulación y marcado del pavimento\nRequisitos de los semáforos y tipos de indicaciones\n\n  \n  \nREQUERIMIENTOS PARA CUALIFICAR PARA LAS HORAS CONTACTO DEL CIAPR: \n\nParticipar en el tiempo mínimo de participación requerido: 9:40 AM a 11:30 AM.\nDurante el adiestramiento el Instructor mencionará cuatro (4) palabras claves.\nLuego de finalizado el adiestramiento\, los participantes deben completar un formulario digital para escribir las cuatro (4) palabras claves mencionadas por el Instructor.\nDebe tener correctas al menos tres (3) de las palabras claves para cualificar para las horas contacto.\nTendrá solo una oportunidad para contestar el formulario en un periodo de 48 horas de días laborables luego de finalizado el adiestramiento.\n\n  \n  \nINFORMACIÓN DE CONTACTO\n\nCentro de Transferencia de Tecnología en Transportación\nSrta. Cristina Riberas González (cristina.riberas@upr.edu)\nTeléfonos: 787-834-6385 (Directo)\n787-832-4040 Exts. 3393\, 3403\n\n  \nACT\nAimee Dilán (adilan@act.pr.gov)\nTeléfono: 787-721-8787 Exts. 57220 / 52049\nNOTA: Favor enviar la Forma ACT 770 y completar el registro.
URL:https://prltap.org/eng/event/webinar-modulo-4-de-la-certificacion-road-safety-champion-rsc-descripcion-general-del-mutcd-3/
CATEGORIES:Webinar
ORGANIZER;CN="PRLTAP":MAILTO:prt2.webmaster@gmail.com
END:VEVENT
BEGIN:VEVENT
DTSTART;TZID=America/Puerto_Rico:20251114T130000
DTEND;TZID=America/Puerto_Rico:20251114T163000
DTSTAMP:20260424T172602
CREATED:20251027T162514Z
LAST-MODIFIED:20251027T162514Z
UID:18907-1763125200-1763137800@prltap.org
SUMMARY:Webinar | Conceptos Básicos de Economía de Transporte para Oficiales Municipales
DESCRIPTION:REGISTRO \n  \nFECHA Y HORA:\nViernes\, 14 de noviembre de 2025\n1:20 PM – 4:30 PM (la sala virtual abrirá a la 1:00 PM) \n  \nHoras Contacto: Tres (3) horas técnicas aplicables a ingenieros y horas generales aplicables para agrimensores del CIAPR. \n**La determinación final en cuanto a la adjudicación de las Horas Contacto (HC) dependerá de los requisitos y regulaciones vigentes del CIAPR.** \n  \nPLATAFORMA:\nGoToWebinar \n  \nINSTRUCTOR:\nCarlos A. Del Valle González\, PhD\nCatedrático\nDepartamento de Economía\nUPR-Recinto Universitario de Mayagüez \n  \n  \nNOTAS DE REQUERIMIENTO DE HORAS CONTACTO DEL CIAPR\n1. Participar en el tiempo mínimo de participación requerido 1:40 pm a 4:30 pm.\n2. Durante el adiestramiento la Instructora mencionará cuatro (4) palabras claves.\n3. Luego de finalizado el adiestramiento\, los participantes deben completar un formulario digital para escribir las cuatro (4) palabras claves mencionadas por la Instructora.\n4. Debe tener correctas al menos tres (3) de las palabras claves para cualificar para las horas contacto.\n5. Tendrá solo una oportunidad para contestar el formulario en un periodo de 48 horas laborables luego de finalizado el adiestramiento. \n  \n  \nOBJETIVOS: \n1. Exponer al participante a conceptos y definiciones básicas de economía y de transportación. \n2. Reconocer la clasificación industrial de la transportación. \n3. Entender la relación entre la transportación\, el desarrollo económico\, los usos del terreno y la calidad de vida. \n4. Introducir al participante a la evaluación de proyectos de inversión pública\, el análisis de costo beneficio y los costos asociados a la provisión de servicios de transporte. \n  \nTEMAS A CUBRIRSE: \nMovilidad y accesibilidad\, modos y redes de transportación\, eficiencia y resiliencia\, economía\, el problema económico\, recursos económicos (factores de producción)\, Supply Chain\, sistema económico\, mercado\, planificación\, oferta y demanda\, demanda derivada de transportación\, usos del terreno\, Clasificación Industrial (NAICS) del sector económico de la transportación\, crecimiento económico\, desarrollo económico\, desarrollo sostenible\, política fiscal\, evaluación de proyectos\, análisis de costo beneficio\, costos de los sistemas de transporte\, economías de aglomeración\, factores básicos de localización\, fuerzas de concentración y dispersión geográfica\, ciudad\, región\, urbanismo\, modelos de ciudad orientados al transporte colectivo y la micromovilidad. \n  \n  \nCONTACTOS\nCentro de Transferencia de Tecnología en Transportación: \nSrta. Cristina M. Riberas González: cristina.riberas@upr.edu \nTeléfonos: 787-834-6385 (Directo) / 787-832-4040 Exts. 3393\, 3403 \n  \nACT: \nAimee Dilán (adilan@act.pr.gov) \nTeléfono: 787-721-8787 Exts. 57220/52049 \nNOTA: Favor enviar la Forma ACT 770 y completar el formulario de registro.
URL:https://prltap.org/eng/event/webinar-conceptos-basicos-de-economia-de-transporte-para-oficiales-municipales/
CATEGORIES:Webinar
ORGANIZER;CN="PRLTAP":MAILTO:prt2.webmaster@gmail.com
END:VEVENT
BEGIN:VEVENT
DTSTART;TZID=America/Puerto_Rico:20251121T090000
DTEND;TZID=America/Puerto_Rico:20251121T113000
DTSTAMP:20260424T172602
CREATED:20251103T175644Z
LAST-MODIFIED:20251103T175644Z
UID:19027-1763715600-1763724600@prltap.org
SUMMARY:Webinar | Módulo 5 (RSC): Intersección de la Transportación con Oficiales de Salud Pública y Cuerpos de Policía
DESCRIPTION:REGISTRO \n  \nFECHA Y HORA: \nViernes\, 21 de noviembre de 2025\n9:20 AM a 11:30 AM (AST)\n(la sala virtual abrirá a las 9:00 AM) \n  \nHoras Contacto: Dos (2) horas técnicas para ingenieros y generales para agrimensores del CIAPR \n***La determinación final en cuanto a la adjudicación de las Horas Contacto (HC)\, dependerá de los requisitos y regulaciones vigentes del CIAPR.*** \n  \nPLATAFORMA:\nGoToWebinar \n  \nINSTRUCTOR:\nDr. Alberto M. Figueroa Medina\nCatedrático\nDepartamento de Ingeniería Civil y Agrimensura\nUPR-Recinto de Mayagüez \n  \nOBJETIVOS \nComprender el rol que desempeñan las personas trabajando en los sectores de salud pública y los cuerpos de policía en la eliminación de problemas de seguridad en la transportación\, que puede conducir a la reducción de muertes y lesiones graves por choques en las carreteras.\n\n\nRESULTADOS DEL ADIESTRAMIENTO \n\nReafirmar la importancia de la seguridad en las carreteras desde múltiples perspectivas.\nIdentificar cómo las fuerzas de ley y orden y de salud pública pueden ayudar a mejorar la seguridad en las carreteras.\nDescribir estrategias de colaboración entre diferentes disciplinas y oficios para el bienestar y mejora en la seguridad vial.\n\n  \n  \nREQUERIMIENTOS PARA CUALIFICAR PARA LAS HORAS CONTACTO DEL CIAPR: \n\nParticipar en el tiempo mínimo de participación requerido: 9:40 AM a 11:30 AM.\nDurante el adiestramiento el Instructor mencionará cuatro (4) palabras claves.\nLuego de finalizado el adiestramiento\, los participantes deben completar un formulario digital para escribir las cuatro (4) palabras claves mencionadas por el Instructor.\nDebe tener correctas al menos tres (3) de las palabras claves para cualificar para las horas contacto.\nTendrá solo una oportunidad para contestar el formulario en un periodo de 48 horas de días laborables luego de finalizado el adiestramiento.\n\n  \n  \nINFORMACIÓN DE CONTACTO\nCentro de Transferencia de Tecnología en Transportación\nSrta. Cristina Riberas González (cristina.riberas@upr.edu)\nTeléfonos: 787-834-6385 (Directo)\n787-832-4040 Exts. 3393\, 3403ACT\nAimee Dilán (adilan@act.pr.gov)\nTeléfono: 787-721-8787 Exts. 57220 / 52049\nNOTA: Favor enviar la Forma ACT 770 y completar el registro.
URL:https://prltap.org/eng/event/webinar-modulo-5-rsc-interseccion-de-la-transportacion-con-oficiales-de-salud-publica-y-cuerpos-de-policia/
CATEGORIES:Webinar
ORGANIZER;CN="PRLTAP":MAILTO:prt2.webmaster@gmail.com
END:VEVENT
END:VCALENDAR