BEGIN:VCALENDAR
VERSION:2.0
PRODID:-//T2 Center - ECPv6.15.18//NONSGML v1.0//EN
CALSCALE:GREGORIAN
METHOD:PUBLISH
X-WR-CALNAME:T2 Center
X-ORIGINAL-URL:https://prltap.org/eng
X-WR-CALDESC:Events for T2 Center
REFRESH-INTERVAL;VALUE=DURATION:PT1H
X-Robots-Tag:noindex
X-PUBLISHED-TTL:PT1H
BEGIN:VTIMEZONE
TZID:America/Puerto_Rico
BEGIN:STANDARD
TZOFFSETFROM:-0400
TZOFFSETTO:-0400
TZNAME:AST
DTSTART:20240101T000000
END:STANDARD
END:VTIMEZONE
BEGIN:VEVENT
DTSTART;TZID=America/Puerto_Rico:20250404T073000
DTEND;TZID=America/Puerto_Rico:20250404T120000
DTSTAMP:20260425T222615
CREATED:20250401T124754Z
LAST-MODIFIED:20250401T124915Z
UID:16355-1743751800-1743768000@prltap.org
SUMMARY:Webinar Roadway Safety+: Peligros y Precauciones
DESCRIPTION:Registro \n  \nFECHA Y HORA:\nViernes\, 4 de abril de 2025\n7:50 AM – 12:00 PM AST\n(la sala virtual abrirá a las 7:30 AM) \nHoras Contacto: Cuatro (4) horas técnicas para ingenieros y agrimensores del CIAPR \n**La determinación final en cuanto a la adjudicación de las Horas Contacto (HC) dependerá de los requisitos y regulaciones vigentes del CIAPR.**\nPLATAFORMA:\nGoToWebinar \nINSTRUCTOR:\nSr. Robinson Vásquez\, LLM\, MBA\nGerente de Adiestramientos en Seguridad\nARTBA \n  \n  \nTEMAS DEL CURSO:\n\n\nEste curso tiene como objetivo revisar las principales causas de muertes y lesiones en la construcción vial. Analizaremos cómo controlar peligros como el tráfico\, las caídas\, las electrocuciones\, los atrapamientos\, las excavaciones y zanjas\, así como enfermedades relacionadas con el calor\, el sobresfuerzo\, las emergencias y los desastres naturales\, entre otros riesgos comunes.Este programa es una versión condensada y ágil del curso OSHA de 10 horas para la construcción vial. En un formato más rápido y resumido\, los participantes aprenderán a identificar estos peligros y conocerán las medidas preventivas y las acciones a seguir en caso de un incidente. \n\n\n  \n  \nAUDIENCIA\n\n\nTodos los cursos de capacitación en seguridad de ARTBA están diseñados para una amplia variedad de profesionales involucrados en la industria de la construcción de carreteras y áreas relacionadas. Entre ellos se incluyen\, pero no se limitan a: \n\nTrabajadores y operadores de construcción vial.\nSupervisores de construcción y gerentes de proyecto.\nPersonal y capacitadores de seguridad.\nConsultores e inspectores de la industria.\nTrabajadores expuestos a riesgos de tráfico.\nFuncionarios gubernamentales y responsables de políticas públicas.\nEstudiantes de ingeniería\, construcción u otras áreas relacionadas.\n\n\nINFORMACIÓN DE CONTACTO:\nCentro de Transferencia de Tecnología en Transportación\nSrta. Ciara Toro Rosario (ciara.toro@upr.edu)\nSrta. Cristina Riberas González (cristina.riberas@upr.edu)\nTeléfono: 787-834-6385 (Directo)\n787-832-4040 Exts. 3393\, 3403Autoridad de Carreteras y Transportación (ACT)\nAimee Dilán (adilan@act.pr.gov)\nPaola N. Fuster (pfuster@act.pr.edu)\nTeléfono: 787-721-8787 Exts. 57220/52049\nNota: El personal de la ACT favor enviar la Forma ACT 770 y completar el formulario de registro.
URL:https://prltap.org/eng/event/webinar-roadway-safety-peligros-y-precauciones/
CATEGORIES:Webinar
ORGANIZER;CN="PRLTAP":MAILTO:prt2.webmaster@gmail.com
END:VEVENT
BEGIN:VEVENT
DTSTART;TZID=America/Puerto_Rico:20250409T090000
DTEND;TZID=America/Puerto_Rico:20250409T113000
DTSTAMP:20260425T222615
CREATED:20250326T131249Z
LAST-MODIFIED:20250326T131249Z
UID:16254-1744189200-1744198200@prltap.org
SUMMARY:Webinar | Módulo 4 de la Certificación "Road Safety Champion (RSC)":  Descripción General del MUTCD
DESCRIPTION:Registro \n  \nFECHA Y HORA: \nMiércoles\, 9 de abril de 2025\n9:20 AM a 11:30 AM (AST)\n(la sala virtual abrirá a las 9:00 AM) \nHoras Contacto: Dos(2) horas técnicas para ingenieros y generales para agrimensores del CIAPR \n***La determinación final en cuanto a la adjudicación de las Horas Contacto (HC)\, dependerá de los requisitos y regulaciones vigentes del CIAPR.*** \nPLATAFORMA:\nGoToWebinar \nINSTRUCTOR:\nDr. Alberto M. Figueroa Medina\nCatedrático\nDepartamento de Ingeniería Civil y Agrimensura\nUPR-Recinto de Mayagüez \n  \nOBJETIVOS\nLos participantes comprenderán el propósito del Manual de Dispositivos Uniforme del Control de Tráfico (MUTCD) y cómo usarlo. \nTEMAS A CUBRIRSE \n\nPropósito y organización del MUTCD\nDefiniciones claves\nPropósito y Principios de los Dispositivos de Control de Tráfico (TCD)\nFundamentos y tipos de rotulación y marcado del pavimento\nRequisitos de los semáforos y tipos de indicaciones\n\n  \nREQUERIMIENTOS PARA CUALIFICAR PARA LAS HORAS CONTACTO DEL CIAPR: \n\nParticipar en el tiempo mínimo de participación requerido: 9:40 AM a 11:30 AM.\nDurante el adiestramiento el Instructor mencionará cuatro (4) palabras claves.\nLuego de finalizado el adiestramiento\, los participantes deben completar un formulario digital para escribir las cuatro (4) palabras claves mencionadas por el Instructor.\nDebe tener correctas al menos tres (3) de las palabras claves para cualificar para las horas contacto.\nTendrá solo una oportunidad para contestar el formulario en un periodo de 48 horas de días laborables luego de finalizado el adiestramiento.\n\n  \nINFORMACIÓN DE CONTACTO\nCentro de Transferencia de Tecnología en Transportación\nSrta. Ciara Toro Rosario (ciara.toro@upr.edu)\nSrta. Cristina Riberas González (cristina.riberas@upr.edu)\nTeléfonos: 787-834-6385 (Directo)\n787-832-4040 Exts. 3393\, 3403ACT\nAimee Dilán (adilan@act.pr.gov)\nPaola N. Fuster (pfuster@act.pr.gov)\nTeléfono: 787-721-8787 Exts. 57220 / 52049\nNOTA: Favor enviar la Forma ACT 770 y completar el registro. \n\n 
URL:https://prltap.org/eng/event/webinar-modulo-4-de-la-certificacion-road-safety-champion-rsc-descripcion-general-del-mutcd/
CATEGORIES:Webinar
END:VEVENT
BEGIN:VEVENT
DTSTART;TZID=America/Puerto_Rico:20250411T073000
DTEND;TZID=America/Puerto_Rico:20250411T120000
DTSTAMP:20260425T222615
CREATED:20250401T124913Z
LAST-MODIFIED:20250401T124913Z
UID:16357-1744356600-1744372800@prltap.org
SUMMARY:Webinar Roadway Safety+: Dispositivos de Control de Tráfico Temporal y Trabajo Nocturno
DESCRIPTION:Registro \n  \nFECHA Y HORA:\nViernes\, 11 de abril de 2025\n7:50 AM – 12:00 PM AST\n(la sala virtual abrirá a las 7:30 AM) \nHoras Contacto: Cuatro (4) horas técnicas para ingenieros y agrimensores del CIAPR \n**La determinación final en cuanto a la adjudicación de las Horas Contacto (HC) dependerá de los requisitos y regulaciones vigentes del CIAPR.**\nPLATAFORMA:\nGoToWebinar \nINSTRUCTOR:\nSr. Robinson Vásquez\, LLM\, MBA\nGerente de Adiestramientos en Seguridad\nARTBA \n  \n  \nTEMAS DEL CURSO:\n\nEl objetivo de este curso es capacitar sobre el uso de dispositivos de control de tráfico temporal para dirigir el flujo de automovilistas alrededor de las zonas de trabajo. Se analizarán los riesgos asociados con la instalación y recolección de estos dispositivos\, su revisión de condiciones\, los usos alternativos en el tráfico interno\, los riesgos relacionados y la normativa general en el MUTCD.Además\, se revisarán los peligros asociados al trabajo nocturno en la construcción vial\, como el cansancio\, el exceso de velocidad y la falta de visibilidad. Se discutirán las medidas para mitigar estos riesgos\, tales como el uso de iluminación adecuada\, vestimenta de alta visibilidad\, control del tráfico nocturno y la alta velocidad. \n\n\n  \n  \nAUDIENCIA\n\nTodos los cursos de capacitación en seguridad de ARTBA están diseñados para una amplia variedad de profesionales involucrados en la industria de la construcción de carreteras y áreas relacionadas. Entre ellos se incluyen\, pero no se limitan a: \n\nTrabajadores y operadores de construcción vial.\nSupervisores de construcción y gerentes de proyecto.\nPersonal y capacitadores de seguridad.\nConsultores e inspectores de la industria.\nTrabajadores expuestos a riesgos de tráfico.\nFuncionarios gubernamentales y responsables de políticas públicas.\nEstudiantes de ingeniería\, construcción u otras áreas relacionadas.\n\n\nINFORMACIÓN DE CONTACTO:\nCentro de Transferencia de Tecnología en Transportación\nSrta. Ciara Toro Rosario (ciara.toro@upr.edu)\nSrta. Cristina Riberas González (cristina.riberas@upr.edu)\nTeléfono: 787-834-6385 (Directo)\n787-832-4040 Exts. 3393\, 3403Autoridad de Carreteras y Transportación (ACT)\nAimee Dilán (adilan@act.pr.gov)\nPaola N. Fuster (pfuster@act.pr.edu)\nTeléfono: 787-721-8787 Exts. 57220/52049\nNota: El personal de la ACT favor enviar la Forma ACT 770 y completar el formulario de registro.
URL:https://prltap.org/eng/event/webinar-roadway-safety-dispositivos-de-control-de-trafico-temporal-y-trabajo-nocturno/
CATEGORIES:Webinar
ORGANIZER;CN="PRLTAP":MAILTO:prt2.webmaster@gmail.com
END:VEVENT
BEGIN:VEVENT
DTSTART;TZID=America/Puerto_Rico:20250425T090000
DTEND;TZID=America/Puerto_Rico:20250425T113000
DTSTAMP:20260425T222615
CREATED:20250326T131345Z
LAST-MODIFIED:20250326T131345Z
UID:16255-1745571600-1745580600@prltap.org
SUMMARY:Webinar | Módulo 2 del Certificado Road Safety Champion (RSC): Comprender los Factores Humanos
DESCRIPTION:Registro \n  \nFECHA Y HORA:\nViernes\, 25 de abril de 2025\n9:20 AM – 11:30 AM (la sala virtual abrirá a las 9:00 AM) \nHoras Contacto: Dos (2) horas técnicas aplicables a ingenieros y horas generales aplicables para agrimensores del CIAPR. \n**La determinación final en cuanto a la adjudicación de las Horas Contacto (HC) dependerá de los requisitos y regulaciones vigentes del CIAPR.**\nPLATAFORMA:\nGoToWebinar \nINSTRUCTOR:\nDidier M. Valdés Díaz\, PhD\nCatedrático\nDepartamento de Ingeniería Civil y Agrimensura\nUPR-Recinto Universitario de Mayagüez \nNOTA: Este Webinar es la segunda vez que se ofrece durante este ciclo. \n\n\n\nOBJETIVOS: \nCapacitar a los profesionales que no trabajan directamente con factores humanos para comprenderlos mejor y entender el papel que juegan los factores humanos en el desarrollo de las políticas de diseño y operación de sistemas viales. \nTEMAS A CUBRIRSE: \n\nExplicar el rol del usuario de la vía como elemento de un sistema.\nIdentificar las capacidades y limitaciones de los usuarios de la vía.\nDescribir cómo las prácticas actuales de diseño geométrico y operaciones de tráfico abordan los factores humanos.\n\n\n  \nINFORMACIÓN DE CONTACTO: \nCentro de Transferencia de Tecnología en Transportación\nSrta. Ciara Toro Rosario (ciara.toro@upr.edu)\nSrta. Cristina Riberas González (cristina.riberas@upr.edu)\nTeléfono: 787-834-6385 (Directo)\n787-832-4040 Exts. 3393\, 3403 \nAutoridad de Carreteras y Transportación (ACT)\nAimee Dilán (adilan@act.pr.gov)\nPaola N. Fuster (pfuster@act.pr.edu)\nTeléfono: 787-721-8787 Exts. 57220/52049\nNota: El personal de la ACT favor enviar la Forma ACT 770 y completar el formulario de registro.
URL:https://prltap.org/eng/event/webinar-modulo-2-del-certificado-road-safety-champion-rsc-comprender-los-factores-humanos/
CATEGORIES:Webinar
END:VEVENT
END:VCALENDAR