BEGIN:VCALENDAR
VERSION:2.0
PRODID:-//T2 Center - ECPv6.15.18//NONSGML v1.0//EN
CALSCALE:GREGORIAN
METHOD:PUBLISH
X-ORIGINAL-URL:https://prltap.org/eng
X-WR-CALDESC:Events for T2 Center
REFRESH-INTERVAL;VALUE=DURATION:PT1H
X-Robots-Tag:noindex
X-PUBLISHED-TTL:PT1H
BEGIN:VTIMEZONE
TZID:America/Puerto_Rico
BEGIN:STANDARD
TZOFFSETFROM:-0400
TZOFFSETTO:-0400
TZNAME:AST
DTSTART:20250101T000000
END:STANDARD
END:VTIMEZONE
BEGIN:VEVENT
DTSTART;TZID=America/Puerto_Rico:20260327T073000
DTEND;TZID=America/Puerto_Rico:20260327T120000
DTSTAMP:20260421T203557
CREATED:20260305T192547Z
LAST-MODIFIED:20260305T192547Z
UID:19475-1774596600-1774612800@prltap.org
SUMMARY:Cumbre de Movilidad\, Infraestructura y Resiliencia en el Transporte
DESCRIPTION:REGISTRO \n  \nFECHA Y HORA:\nViernes\, 27 de marzo de 2026\n7:30 AM Registro\n8:00 AM – 12:00 PM \n  \nHoras Contacto: 3 horas generales para ingenieros y para agrimensores del CIAPR \n  \nLUGAR:\nUniversidad Politécnica de Puerto Rico\nSalones Milla de Oro y Floral Park\nBiblioteca\, Tercer Piso\n377 Ave. Juan Ponce de León\nSan Juan\, Puerto Rico \n  \n  \n  \nTEMAS: \nReimaginando el Transporte Colectivo como Infraestructura Crítica en Puerto Rico\nIng. Josué L. Menéndez Agosto\, Director Ejecutivo\nAlternativa de Transporte Integrado \n  \nDe Desarrollo Sostenible a Resiliencia: Implicaciones para Puerto Rico\nDr. Alberto Fuentes\, Profesor\nSchool of City & Regional Planning\nGeorgia Institute of Technology \n  \nTransporte Colectivo como Catalítico para el Desarrollo de la Región Metropolitana de San Juan: Herramientas Reglamentarias a Escala Regional\nDra. Criseida Navarro Díaz\, Directora\nEscuela Graduada de Planificación\nUPR-Recinto de Río Piedras \n  \nLineamientos para un Plan Metropolitano de Transporte Público para San Juan\nWyvis Cook\nNico Dinglosa\nBrendan Parker\nIshani Peddi\nIsabel Peralta\nNavya Pillai\nGeneveive White \nEstudiantes de Maestría\nSchool of City & Regional Planning\nGeorgia Institute of Technology \n  \nPlan de Manejo de Agua de Tormentas para la Cuenca de Santurce\nLehn Ellison\nEmerence Poiraud\nCole Reardon\nJake Wilson \nEstudiantes de Maestría\nSchool of City & Regional Planning\nGeorgia Institute of Technology \n  \nAvanzando la Movilidad Colaborativa Mediante Sistemas Inteligentes de Viajes Compartidos y Estacionamiento\nDr. Daniel Rodríguez Román\, Profesor\nUPR-Recinto Universitario de Mayagüez \n  \nEvaluación de la Accesibilidad Peatonal Alrededor de los Sistemas de Transporte Colectivo en San Juan\nDr. Gustavo E. Pacheco Crosetti\, Profesor\nUniversidad Politécnica de Puerto Rico \n  \n  \nLa actividad es presencial y libre de costo. Favor de registrarse a través del siguiente enlace para participar: \nhttps://forms.gle/m1ua96P5RoDaAiUz6 \nRecibirá un correo electrónico confirmándole su registro. \n  \n  \n  \nINFORMACIÓN DE CONTACTO\n\nCentro de Transferencia de Tecnología en Transportación\nSra. Grisel Villarrubia Echevarría\nE-mail: grisel.villarubia1@upr.edu\nTeléfono: 787-834-6385 (Directo)\n787-832-4040 Exts. 3393\, 3403\n\nACT\nSra. Aimee Dilán\nE-mail: adilan@act.pr.gov\nTeléfono: 787-721-8787; Ext. 57220\, 52049 \nNOTA: Los empleados de la ACT\, favor enviar la Forma ACT 770 a la Sra. Aimee Dilán y completar el formulario de registro.
URL:https://prltap.org/eng/event/cumbre-de-movilidad-infraestructura-y-resiliencia-en-el-transporte/
LOCATION:Univ. Politécnica de Puerto Rico\, Salones Milla de Oro y Floral Park\, Biblioteca\, tercer piso\, Univ. Politécnica de Puerto Rico\, 377 Ave. Juan Ponc de León\, San Juan\, Puerto Rico
CATEGORIES:Seminar
ORGANIZER;CN="PRLTAP":MAILTO:prt2.webmaster@gmail.com
END:VEVENT
END:VCALENDAR