BEGIN:VCALENDAR
VERSION:2.0
PRODID:-//T2 Center - ECPv6.15.18//NONSGML v1.0//EN
CALSCALE:GREGORIAN
METHOD:PUBLISH
X-WR-CALNAME:T2 Center
X-ORIGINAL-URL:https://prltap.org/eng
X-WR-CALDESC:Events for T2 Center
REFRESH-INTERVAL;VALUE=DURATION:PT1H
X-Robots-Tag:noindex
X-PUBLISHED-TTL:PT1H
BEGIN:VTIMEZONE
TZID:America/Puerto_Rico
BEGIN:STANDARD
TZOFFSETFROM:-0400
TZOFFSETTO:-0400
TZNAME:AST
DTSTART:20240101T000000
END:STANDARD
END:VTIMEZONE
BEGIN:VEVENT
DTSTART;TZID=America/Puerto_Rico:20251204T080000
DTEND;TZID=America/Puerto_Rico:20251204T120000
DTSTAMP:20260422T023201
CREATED:20251110T181228Z
LAST-MODIFIED:20251110T181228Z
UID:19220-1764835200-1764849600@prltap.org
SUMMARY:Evaluación Geomática: Áreas de Deslizamientos de Tierra cerca a las Carreteras
DESCRIPTION:REGISTRO \n  \nFECHA y HORA:\nJueves\, 4 de diciembre de 2025\n8:00 AM Registro\n8:30 AM – 12:00 PM \n  \nHoras Contacto: Seis (6) horas técnicas aplicables a ingenieros y agrimensores del CIAPR que participen en su totalidad. \n  \nLUGAR:  \nCIAPR\, Capítulo de Ponce\nBoulevard Ruth Fernández #75\nUrb. El Madrigal\nPonce\, Puerto Rico 00730 \n  \nINSTRUCTORA: \nEvi De la Rosa Ricciardi\, PhD\, PS\nCatedrática\nDepartamento de Ingeniería Civil y Agrimensura\nUPR – Recinto de Mayagüez \n  \n  \nOBJETIVOS \n\nEstudiar los deslizamientos de terrenos y discutir algunas guías existentes en Puerto Rico.\nDefinir fuentes de información para definir niveles de riesgo a deslizamientos de tierra.\nConocer las consideraciones de seguridad en la carreteras\, las recomendaciones de MUTCD y posible TTC que guían\, advierten y protegen a los usuarios de la vía y a los trabajadores.\nIdentificar los sistemas de coordenadas planas estatales para Puerto Rico e Islas Vírgenes (Lambert) y las coordenadas del sistema Universal Transversal Mercator (UTM).\nEstablecer los criterios de georreferenciación por parte de las agencias gubernamentales de Puerto Rico.\nEstudiar los datum de referencia de acuerdo a método utilizado en la recolección de datos.\nDefinir la evaluación áreas de deslizamiento de terrenos desde el reconocimiento hasta la recolección de datos.\nAnalizar el proceso de documentación de casos de deslizamientos de carreteras en Puerto Rico.\n\n  \n  \nTEMAS A CUBRIRSE \n\nIntroducción\nDefiniciones y Terminología\n\nDeslizamientos de Tierra\nGuía de Deslizamientos\nPartes de un Deslizamiento\n\n\nConsideraciones de Seguridad en las Carreteras\nSistemas de Coordenadas\n\nDatums\n\n\nEvaluación de Áreas de Deslizamientos\n\nReconocimiento\nRecolección de Datos\nMétodos de Campo\nProductos\n\n\nCasos\nRecomendaciones\n\n  \n  \nINFORMACIÓN DE CONTACTO: \nCentro de Transferencia de Tecnología en Transportación\nSrta. Ciara Toro Rosario: ciara.toro@upr.edu\nSrta. Cristina M. Riberas: cristina.riberas@upr.edu\nTeléfonos: 787-834-6385 (Directo)\n787-832-4040 Exts. 3393\, 3403 \n  \nAutoridad de Carreteras y Transportación (ACT)\nAimee Dilán (adilan@act.pr.gov)\nPaola Fuster (pfuster@act.pr.gov)\nTeléfono: 787-721-8787; Ext.51044\nNOTA: Favor enviar la Forma ACT 770 y completar el formulario de registro.
URL:https://prltap.org/eng/event/evaluacion-geomatica-areas-de-deslizamientos-de-tierra-cerca-a-las-carreteras-2/
LOCATION:CIAPR Capítulo de Ponce\, Boulevard Ruth Fernández #75 Urbanización El Madrigal\, Ponce\, 00730\, Puerto Rico
CATEGORIES:Seminar
ORGANIZER;CN="PRLTAP":MAILTO:prt2.webmaster@gmail.com
END:VEVENT
END:VCALENDAR