BEGIN:VCALENDAR
VERSION:2.0
PRODID:-//T2 Center - ECPv6.15.18//NONSGML v1.0//EN
CALSCALE:GREGORIAN
METHOD:PUBLISH
X-ORIGINAL-URL:https://prltap.org/eng
X-WR-CALDESC:Events for T2 Center
REFRESH-INTERVAL;VALUE=DURATION:PT1H
X-Robots-Tag:noindex
X-PUBLISHED-TTL:PT1H
BEGIN:VTIMEZONE
TZID:America/Puerto_Rico
BEGIN:STANDARD
TZOFFSETFROM:-0400
TZOFFSETTO:-0400
TZNAME:AST
DTSTART:20240101T000000
END:STANDARD
END:VTIMEZONE
BEGIN:VEVENT
DTSTART;TZID=America/Puerto_Rico:20251014T080000
DTEND;TZID=America/Puerto_Rico:20251014T163000
DTSTAMP:20260422T073344
CREATED:20250922T153525Z
LAST-MODIFIED:20250922T153525Z
UID:18122-1760428800-1760459400@prltap.org
SUMMARY:Taller Práctico: Análisis Económico de Alternativas para Proyectos de Transportación
DESCRIPTION:REGISTRO \n  \nFECHA Y HORA: \nMartes\, 14 de octubre de 2025\n8:00 am Registro\n8:30 am – 4:30 pm \nHoras Contacto: Seis (6) horas técnicas para ingenieros y generales para agrimensores del CIAPR que participen en su totalidad. \n***La determinación final en cuanto a la adjudicación de las horas contacto dependerá de los requisitos y regulaciones vigentes del CIAPR.*** \n  \nINSTRUCTOR: \nDr. Francisco Maldonado Fortunet\nCatedrático\nDpto. de Ingeniería Civil y Agrimensura\nUPR – Recinto Universitario de Mayagüez \n  \nLUGAR: \nCentro Tecnológico Municipal de Moca\nCarr. 110 Calle Monseñor J. Torres\,\nEsquina\, Cll Mario Medina\nMoca\, Puerto Rico 00676 \n  \n  \n\nAUDIENCIA \nProfesionales de la ingeniería civil\, contratistas\, subcontratistas\, planificadores\, personal técnico y administrativo de agencias gubernamentales\, y estudiantes avanzados de ingeniería interesados en adquirir destrezas prácticas en la preparación de estimados de costos para proyectos de infraestructura vial y transportación. \n  \nPROPÓSITO \nBrindar a los participantes una experiencia práctica y aplicada en la preparación de estimados de costos de construcción utilizando manuales de referencia como el RSMeans\, herramientas de cálculo en MS Excel\, y formularios de trabajo. El taller está diseñado para fortalecer las competencias técnicas en la planificación y evaluación económica de proyectos de transportación. \n  \nOBJETIVOS \n\n\nRealizar técnicas de estimados rápidos.\nIdentificar los componentes principales de un estimado de costos detallado.\nUtilizar el manual de RSMeans para obtener costos unitarios de materiales\, mano de obra y equipo.\nCalcular costos indirectos y contingencias para determinar sobreprecio.\nAplicar técnicas y factores de ajuste por localización\, tiempo e inflación.\nUtilizar MS Excel y formularios estructurados para organizar y presentar estimados de costos.\nRealizar ejercicios prácticos de estimado utilizando datos reales de proyectos de transportación.\nAplicar técnicas de análisis económico para evaluar alternativas de costos.\n\n  \n  \n***IMPORTANTE*** \nPara maximizar la experiencia de aprendizaje\, se requiere que cada participante tenga a mano lo siguiente: \n\nComputadora portátil con MS Excel instalado.\nDispositivo tipo tableta (opcional\, para consulta de manuales digitales o de información).\nCalculadora científica ó financiera.\nFormularios de trabajo (serán provistos en formato digital antes del taller).\n\n  \n  \nCONTACTOS \nCentro de Transferencia de Tecnología en Transportación\nSrta. Cristina M. Riberas González: cristina.riberas@upr.edu\nTeléfonos: 787-834-6385 (Directo) / 787-832-4040 Ext. 3393\, 3403 \nACT:\nAimee Dilán: adilan@act.pr.gov\nTeléfono: 787-721-8787 Ext. 57220 / 52049\nNOTA: Favor enviar la Forma ACT 770 y completar el formulario de registro. \n  \n  \n 
URL:https://prltap.org/eng/event/taller-practico-analisis-economico-de-alternativas-para-proyectos-de-transportacion-2/
LOCATION:Centro Tecnológico Municipal de Moca\, Carr. 110 Calle Monseñor J. Torres\, Esquina CII Mario Medin\, Moca\, PR\, 00676\, Puerto Rico
CATEGORIES:Seminar
ORGANIZER;CN="PRLTAP":MAILTO:prt2.webmaster@gmail.com
END:VEVENT
END:VCALENDAR