BEGIN:VCALENDAR
VERSION:2.0
PRODID:-//T2 Center - ECPv6.15.18//NONSGML v1.0//EN
CALSCALE:GREGORIAN
METHOD:PUBLISH
X-WR-CALNAME:T2 Center
X-ORIGINAL-URL:https://prltap.org/eng
X-WR-CALDESC:Events for T2 Center
REFRESH-INTERVAL;VALUE=DURATION:PT1H
X-Robots-Tag:noindex
X-PUBLISHED-TTL:PT1H
BEGIN:VTIMEZONE
TZID:America/Puerto_Rico
BEGIN:STANDARD
TZOFFSETFROM:-0400
TZOFFSETTO:-0400
TZNAME:AST
DTSTART:20240101T000000
END:STANDARD
END:VTIMEZONE
BEGIN:VEVENT
DTSTART;TZID=America/Puerto_Rico:20250926T080000
DTEND;TZID=America/Puerto_Rico:20250926T163000
DTSTAMP:20260422T104709
CREATED:20250910T184757Z
LAST-MODIFIED:20250910T184757Z
UID:17785-1758873600-1758904200@prltap.org
SUMMARY:SEMINARIO / TALLER | Cómo hacer un estudio de velocidad utilizando un lidar de mano: Estrategias para el control de velocidades
DESCRIPTION:REGISTRO \n  \n  \nFECHA y HORA:\nViernes\, 26 de septiembre de 2025\n8:00 AM Registro\n8:30 AM – 4:30 PM \n  \nHORAS CONTACTO: Seis (6) horas técnicas aplicables a ingenieros y generales para agrimensores del CIAPR que participen en su totalidad. \n  \nLUGAR:  \nCIAPR\, Sede de Hato Rey\nSalón Ing. Carlos Salgado Rosa\nAve. Domenech\, Calle Ing. Antolín Nin Martínez\nSan Juan\, PR 00918 \n  \nNota: Espacios limitados a 30 participantes \n  \nINSTRUCTORES: \nDr. Didier M. Valdés Díaz\, PhD\nCatedrático \nDr. Alberto M. Figueroa Medina\, PhD\nCatedrático \nDepartamento de Ingeniería Civil y Agrimensura\nUPR-Recinto de Mayagüez \n  \n  \nOBJETIVOS: \n\nComprender la importancia del diseño geométrico basado en el desempeño de las carreteras.\nCalcular la velocidad de operación y otras estadísticas de velocidad.\nDeterminar si las velocidades medias de muestras independientes son estadísticamente iguales.\nTomar lecturas de velocidad en campo utilizando el Lidar de mano ProLaser 4.\nDescribir el proceso para establecer velocidades límites seguras en carreteras.\n\n  \nTEMAS: \n\nEstudio de Velocidad\nCaracterísticas de la Velocidad\nDeterminación del tamaño de muestra\nDescripción y uso del equipos Lidar de mano ProLaser 4\nProcedimiento y ejercicio en el Campo con el ProLaser 4\nEvaluación y consistencia del diseño\nUso de dispositivo de rotulación y marcado para el control de la velocidad\n\n  \n  \nINFORMACIÓN DE CONTACTO: \nCentro de Transferencia de Tecnología en Transportación\nSrta. Cristina M. Riberas: cristina.riberas@upr.edu\nTeléfonos: 787-834-6385 (Directo)\n787-832-4040 Exts. 3393\, 3403 \nAutoridad de Carreteras y Transportación (ACT)\nAimee Dilán (adilan@act.pr.gov)\nTeléfono: 787-721-8787; Ext.51044\nNOTA: Favor enviar la Forma ACT 770 y completar el formulario de registro.
URL:https://prltap.org/eng/event/seminario-taller-como-hacer-un-estudio-de-velocidad-utilizando-un-lidar-de-mano-estrategias-para-el-control-de-velocidades/
LOCATION:Colegio de Ingenieros y Agrimensores de Puerto Rico Salón Ing. Carlos Salgado Rosa\, Ave. Domenech\, Calle Ing. Antolin Nín Martínez Hato Rey\, Puerto Rico 00918\, Hato Rey\, 00918\, Puerto Rico
CATEGORIES:Seminar
ORGANIZER;CN="PRLTAP":MAILTO:prt2.webmaster@gmail.com
END:VEVENT
END:VCALENDAR