BEGIN:VCALENDAR
VERSION:2.0
PRODID:-//T2 Center - ECPv6.15.18//NONSGML v1.0//EN
CALSCALE:GREGORIAN
METHOD:PUBLISH
X-WR-CALNAME:T2 Center
X-ORIGINAL-URL:https://prltap.org/eng
X-WR-CALDESC:Events for T2 Center
REFRESH-INTERVAL;VALUE=DURATION:PT1H
X-Robots-Tag:noindex
X-PUBLISHED-TTL:PT1H
BEGIN:VTIMEZONE
TZID:America/Puerto_Rico
BEGIN:STANDARD
TZOFFSETFROM:-0400
TZOFFSETTO:-0400
TZNAME:AST
DTSTART:20240101T000000
END:STANDARD
END:VTIMEZONE
BEGIN:VEVENT
DTSTART;TZID=America/Puerto_Rico:20250912T080000
DTEND;TZID=America/Puerto_Rico:20250912T163000
DTSTAMP:20260422T170554
CREATED:20250818T190414Z
LAST-MODIFIED:20250818T192758Z
UID:17451-1757664000-1757694600@prltap.org
SUMMARY:Estimados de Choques en Carreteras Usando el "Highway Safety Software (HSS)
DESCRIPTION:REGISTRO \n  \nFECHA y HORA:\nViernes\, 12 de septiembre de 2025\n8:00 AM Registro\n8:30 AM – 4:30 PM \n  \nHoras Contacto: Seis (6) horas técnicas aplicables a ingenieros y generales para agrimensores del CIAPR que participen en su totalidad. \n  \nLUGAR:  \nSalón CAIRel\, Edificio de Ingeniería Civil y Agrimensura\nUniversidad de Puerto Rico\nRecinto Universitario de Mayagüez \n  \nINSTRUCTOR: \nDr. Alberto Figueroa Medina\nCatedrático\nDepartamento de Ingeniería Civil y Agrimensura\nUPR-Recinto de Mayagüez \n  \n  \nDESCRIPCIÓN: \nAprender a utilizar el Highway Safety Software (HSS) para estimar choques y evaluar la seguridad vial en carreteras rurales\, multicarriles y arteriales urbanas. Incluye introducción teórica y ejercicios prácticos con el uso del software Highway Safety Software (HSS). \n  \n  \nOBJETIVOS: \n\nComprender los fundamentos del análisis de seguridad vial y su importancia en la planificación y diseño de carreteras.\nIdentificar los datos necesarios para realizar estimados de choques utilizando el HSS.\nAplicar el Highway Safety Software para realizar análisis predictivos en distintos tipos de carreteras.\nInterpretar los resultados generados por el HSS para evaluar el impacto de mejoras viales y justificar intervenciones de seguridad.\n\n  \n  \nINFORMACIÓN DE CONTACTO: \nCentro de Transferencia de Tecnología en Transportación\nSrta. Cristina M. Riberas: cristina.riberas@upr.edu\nTeléfonos: 787-834-6385 (Directo)\n787-832-4040 Exts. 3393\, 3403 \nAutoridad de Carreteras y Transportación (ACT)\nAimee Dilán (adilan@act.pr.gov)\nTeléfono: 787-721-8787; Ext.51044\nNOTA: Favor enviar la Forma ACT 770 y completar el formulario de registro. \n 
URL:https://prltap.org/eng/event/estimados-de-choques-en-carreteras-usando-el-highway-safety-software-hss/
LOCATION:Salón CAIRel\, Edificio de Ingeniería Civil y Agrimensura Universidad de Puerto Rico Recinto Universitario de Mayagüez\, Mayaguez\, 00680\, Puerto Rico
CATEGORIES:Seminar
ORGANIZER;CN="PRLTAP":MAILTO:prt2.webmaster@gmail.com
END:VEVENT
END:VCALENDAR