BEGIN:VCALENDAR
VERSION:2.0
PRODID:-//T2 Center - ECPv6.15.18//NONSGML v1.0//EN
CALSCALE:GREGORIAN
METHOD:PUBLISH
X-ORIGINAL-URL:https://prltap.org/eng
X-WR-CALDESC:Events for T2 Center
REFRESH-INTERVAL;VALUE=DURATION:PT1H
X-Robots-Tag:noindex
X-PUBLISHED-TTL:PT1H
BEGIN:VTIMEZONE
TZID:America/Puerto_Rico
BEGIN:STANDARD
TZOFFSETFROM:-0400
TZOFFSETTO:-0400
TZNAME:AST
DTSTART:20240101T000000
END:STANDARD
END:VTIMEZONE
BEGIN:VEVENT
DTSTART;TZID=America/Puerto_Rico:20250220T100000
DTEND;TZID=America/Puerto_Rico:20250220T120000
DTSTAMP:20260424T163513
CREATED:20250220T200425Z
LAST-MODIFIED:20250220T200425Z
UID:16123-1740045600-1740052800@prltap.org
SUMMARY:Rompiendo Barreras - Planificación para Lograr Calles para Todos
DESCRIPTION:Fecha y Hora:\nJueves\, 20 de febrero de 2025\n10:00 am Registro\n10:30 am – 12:00 pm\n\nLugar: Auditorio del Departamento de Ingeniería Civil y Agrimensura\nUniversidad de Puerto Rico\nRecinto de Mayagüez\nCarr. 108\, Mayagüez PR\, 00682\n\nInstructor: David Soto\, Ingeniero en Transportación\n\n\n\n\n\nContactos: Centro de Transferencia de Tecnología en Transportación\n\nSrta. Ciara Toro Rosario (ciara.toro@upr.edu)\nSrta. Cristina Riberas González (cristina.riberas@upr.edu)\nTeléfonos: 787-834-6385 (Directo)\n787-832-4040\, Exts. 3393 o 3403\n\nACT\nAimee Dilán (adilan@act.pr.gov)\nPaola N. Fuster (pfuster@act.pr.edu)\nTeléfono: 787-721-8787; Ext. 57220/52049\n\nNOTA: Favor enviar la Forma ACT 770 completar el formulario de registro.\n\n\n\n*Este adiestramiento presencial es libre de costo.\n*Para registrarse\, por favor complete la información solicitada en este formulario y presione SUBMIT.\n*Será notificado por correo electrónico la confirmación de su registro o si fue incluido en una lista de espera.\n\n\n\n– – – Autorizado por la Oficina del Contralor Electoral\, Núm. OCE-SA-2023-00411 – – –
URL:https://prltap.org/eng/event/rompiendo-barreras-planificacion-para-lograr-calles-para-todos/
LOCATION:Auditorio\, Edificio de Ingeniería Civil y Agrimensura Universidad de Puerto Rico Recinto Universitario de Mayagüez\, Mayagüez\, 00680\, Puerto Rico
CATEGORIES:Seminar
ORGANIZER;CN="PRLTAP":MAILTO:prt2.webmaster@gmail.com
END:VEVENT
END:VCALENDAR