BEGIN:VCALENDAR
VERSION:2.0
PRODID:-//T2 Center - ECPv6.15.18//NONSGML v1.0//EN
CALSCALE:GREGORIAN
METHOD:PUBLISH
X-WR-CALNAME:T2 Center
X-ORIGINAL-URL:https://prltap.org/eng
X-WR-CALDESC:Events for T2 Center
REFRESH-INTERVAL;VALUE=DURATION:PT1H
X-Robots-Tag:noindex
X-PUBLISHED-TTL:PT1H
BEGIN:VTIMEZONE
TZID:America/Puerto_Rico
BEGIN:STANDARD
TZOFFSETFROM:-0400
TZOFFSETTO:-0400
TZNAME:AST
DTSTART:20240101T000000
END:STANDARD
END:VTIMEZONE
BEGIN:VEVENT
DTSTART;TZID=America/Puerto_Rico:20250212T080000
DTEND;TZID=America/Puerto_Rico:20250212T163000
DTSTAMP:20260424T094316
CREATED:20250128T190242Z
LAST-MODIFIED:20250128T191314Z
UID:15957-1739347200-1739377800@prltap.org
SUMMARY:Técnicas de Evaluación de Defectos en Pavimentos Flexibles
DESCRIPTION:Registro \n  \nFECHA y HORA:\nMiércoles\, 12 de febrero de 2025\n8:00 AM Registro\n8:30 AM – 4:30 PM \n\nHORAS CONTACTO: Seis (6) horas técnicas aplicables a ingenieros y generales para agrimensores del CIAPR que participen en su totalidad. \n**La determinación final en cuanto a la adjudicación de las Horas Contacto (HC)\, dependerá de los requisitos y regulaciones vigentes del CIAPR.** \nLUGAR: \nCIAPR\, Capítulo de Humacao\nCarr. 909 KM 1.0\nHumacao\, P.R. 00791 \nINSTRUCTOR: \nFreddie Salado Martínez\, PhD\, PE\nIngeniero en Transportación \n  \nOBJETIVOS: \nInstruir a los participantes sobre las técnicas de evaluación de pavimentos flexibles para determinar fallas funcionales y estructurales. Se presentarán los principios y procesos del sistema de gestión de pavimentos a nivel de red y de proyecto para evaluar las fallas. El adiestramiento culminará con un taller de práctica para la determinación del índice de condición del pavimento (PCI\, por sus siglas en inglés) siguiendo el procedimiento establecido en el ASTM D6433. \n  \nTécnicas de Evaluación de Defectos en Pavimentos Flexibles\nCentro de Transferencia de Tecnología en Transportación\nCo-auspiciado por el Capítulo de Humacao del CIAPR \n  \nTEMAS A CUBRIRSE: \n\nIntroducción\n\nSistema de gestión de pavimentos (SGP)\nComponentes del SGP\nCiclo de vida del pavimento\nFHWA-LTPP Program\nASTM D6433\n\n\nNiveles de Gestión de Pavimento\n\nNivel de Proyecto\nNivel de red\n\n\nFallas en pavimentos flexibles\n\nEstructural\nFuncional\n\n\nEvaluación del pavimento flexible\n\nInventario de fallas manual y automatizada\nRugosidad\nFricción de la superficie\nPrueba no-destructiva\n\n\nDeterminación del índice de condición (PCI) del pavimento flexible\nTaller grupal: evaluación del pavimento flexible para el computo del PCI\n\n  \nRegistro \n\n\nINFORMACIÓN DE CONTACTO: \nCentro de Transferencia de Tecnología en Transportación\nSrta. Ciara Toro Rosario (ciara.toro@upr.edu)\nSrta. Cristina Riberas González (cristina.riberas@upr.edu)\nTeléfonos: 787-834-6385 (Directo)\n787-832-4040\, Exts. 3393 o 3403 \nAutoridad de Carreteras y Transportación (ACT)\nAimee Dilán (adilan@act.pr.gov)\nPaola N. Fuster (pfuster@act.pr.edu)\nTeléfono: 787-721-8787; Ext. 57220/52049\nNOTA: Favor enviar la Forma ACT 770 completar el formulario de registro \n———————————————————————————————————\n***Autorizado por la Oficina del Contralor Electoral\, Núm. OCE-SA-2023-00411***
URL:https://prltap.org/eng/event/tecnicas-de-evaluacion-de-defectos-en-pavimentos-flexibles-2/
LOCATION:CIAPR Humacao\, Carr. 909 KM 1.0\, Humacao\, 00956\, Puerto Rico
CATEGORIES:Seminar
ORGANIZER;CN="PRLTAP":MAILTO:prt2.webmaster@gmail.com
END:VEVENT
END:VCALENDAR