BEGIN:VCALENDAR
VERSION:2.0
PRODID:-//T2 Center - ECPv6.15.18//NONSGML v1.0//EN
CALSCALE:GREGORIAN
METHOD:PUBLISH
X-ORIGINAL-URL:https://prltap.org/eng
X-WR-CALDESC:Events for T2 Center
REFRESH-INTERVAL;VALUE=DURATION:PT1H
X-Robots-Tag:noindex
X-PUBLISHED-TTL:PT1H
BEGIN:VTIMEZONE
TZID:America/Puerto_Rico
BEGIN:STANDARD
TZOFFSETFROM:-0400
TZOFFSETTO:-0400
TZNAME:AST
DTSTART:20250101T000000
END:STANDARD
END:VTIMEZONE
BEGIN:VEVENT
DTSTART;TZID=America/Puerto_Rico:20260204T080000
DTEND;TZID=America/Puerto_Rico:20260204T163000
DTSTAMP:20260421T202837
CREATED:20260128T154724Z
LAST-MODIFIED:20260128T154724Z
UID:19306-1770192000-1770222600@prltap.org
SUMMARY:Estudios Hidrológicos-Hidráulicos en Puerto Rico: Parte II – Modelaje Hidráulico
DESCRIPTION:REGISTRO \n  \nFECHA Y HORA:\nMiércoles\, 4 de febrero de 2026\n8:00 AM Registro\n8:30 AM – 4:30 PM\nHoras Contacto: 6 horas técnicas para ingenieros y generales para agrimensores del CIAPR que participen en el seminario en su totalidad. \n  \nLUGAR:\nCIAPR – Capítulo de Ponce\nBoulevard Ruth Fernández #75\nUrb. El Madrigal\nPonce\, Puerto Rico 00730 \n  \nINSTRUCTOR:\nWalter F. Silva Araya\, PhD\, PE\nCatedrático\nDepartamento de Ingeniería Civil y Agrimensura\nUPR-Recinto Universitario de Mayagüez \n  \nOBJETIVOS:\nEn este seminario se repasarán los fundamentos de hidráulica y la metodología para crear un modelo hidráulico que permita determinar los caudales de diseño según las Guías para la Elaboración de Estudios Hidrológicos – Hidráulicos en Puerto Rico y de la Junta de Planificación de Puerto Rico. \n  \nTEMAS:\nI) Conceptos de hidráulica de ríos: \n\nRegímenes de flujo\nProfundidad normal\nProfundidad crítica\nFlujo gradualmente variado\n\nII) Las Guías para Estudios H-H de Puerto Rico\nIII) Datos para estudios hidráulicos\nIV) Inundación base y cauce mayor\nV) Modelos hidráulicos en HEC-RAS \n  \nINFORMACIÓN DE CONTACTO:\nCentro de Transferencia de Tecnología en Transportación\nSrta. Ciara Toro Rosario: ciara.toro@upr.edu\nSrta. Cristina M. Riberas González: cristina.riberas@upr.edu\nTeléfonos: 787-834-6385 (Directo) | 787-832-4040 Exts. 3393\, 3403 \nAutoridad de Carreteras y Transportación (ACT)\nAimee Dilán: adilan@act.pr.gov\nTeléfono: 787-721-8787 Exts. 57220 / 52049 \nNOTA: Favor enviar la Forma ACT 770 y completar la hoja de registro
URL:https://prltap.org/eng/event/estudios-hidrologicos-hidraulicos-en-puerto-rico-parte-ii-modelaje-hidraulico-2/
LOCATION:CIAPR Capítulo de Ponce\, Boulevard Ruth Fernández #75 Urbanización El Madrigal\, Ponce\, 00730\, Puerto Rico
CATEGORIES:Seminar
ORGANIZER;CN="PRLTAP":MAILTO:prt2.webmaster@gmail.com
END:VEVENT
BEGIN:VEVENT
DTSTART;TZID=America/Puerto_Rico:20260212T080000
DTEND;TZID=America/Puerto_Rico:20260212T163000
DTSTAMP:20260421T202837
CREATED:20260128T142640Z
LAST-MODIFIED:20260128T142640Z
UID:19295-1770883200-1770913800@prltap.org
SUMMARY:Guía Estratégica para la Preparación de Testigos y Peritos: Interrogatorio\, Deposición y Juicio
DESCRIPTION:REGISTRO \n  \nFECHA y HORA:\nJueves\, 12 de febrero de 2026\n8:00 AM Registro\n8:30 AM – 4:30 PM \n  \nHORAS CONTACTO:\nSeis (6) horas generales para ingenieros y agrimensores del CIAPR que participen en su totalidad. \n  \nLUGAR:\nSede del CIAPR – Hato Rey\nSalón Ing. Esteban Terrats\nAve. Domenech\, Calle Ing. Antolín Nin Martínez\nHato Rey\, Puerto Rico 00918 \n  \nINSTRUCTORA:\nLcda. Eimynela Pérez Rosario\nAbogada-Notaria\nPR LAW LLC \n  \nOBJETIVOS \n\nComprender el rol y la responsabilidad de los testigos y peritos en el proceso judicial en Puerto Rico.\nBrindar herramientas estratégicas para la preparación efectiva de testigos y peritos en el proceso judicial.\nMejorar las habilidades de comunicación y testificación en interrogatorios\, deposiciones y juicios.\nReducir errores comunes en la preparación de informes periciales.\nIlustrar sobre la contestación correcta de interrogatorios.\nIdentificar las tácticas y el lenguaje que los abogados emplean para generar confusión en el testimonio.\nReconocer las contestaciones y comportamiento que puedan debilitar la credibilidad de testigos y peritos.\nIlustrar sobre el uso de fuentes idóneas e inteligencia artificial.\nDialogar sobre destrezas para manejar la presión y el estrés al testificar.\nConocer las limitaciones del rol del testigo y del perito.\nExaminar los principios éticos que rigen la actuación de testigos y peritos en el proceso judicial.\nAnalizar casos prácticos para reforzar la preparación previa al juicio.\n\n  \n  \nTEMAS A CUBRIRSE: \nI. Panorama General del Proceso Judicial en Puerto Rico \nII. Función del Perito y del Testigo en el Juicio \nIII. Dominio del Caso y Estrategia del Abogado \nIV. Elaboración de un Informe Pericial Eficaz \nV. Preparación del Perito y del Testigo para la Deposición \nVI. Preparación para Testificar en Juicio \nVII. Consideraciones Éticas y Legales \nVIII. Análisis de Casos y Jurisprudencia Relevante \n  \nCONTACTOS: \nCentro de Transferencia de Tecnología en Transportación\nSrta. Ciara Toro Rosario (ciara.toro@upr.edu)\nSrta. Cristina Riberas González (cristina.riberas@upr.edu)\nTeléfonos: 787-834-6385 (Directo)\n787-832-4040\, Exts. 3393/3403 \n  \nACT\nAimee Dilán (adilan@act.pr.gov)\nTeléfono: 787-721-8787\, Exts. 57220/52049 \nNOTA: Favor enviar la Forma ACT 770 y completar el formulario de registro.
URL:https://prltap.org/eng/event/guia-estrategica-para-la-preparacion-de-testigos-y-peritos-interrogatorio-deposicion-y-juicio-2/
LOCATION:CIAPR Hato Rey Salón Esteban Terrats\, Ave. Domenech\, Calle Ing. Antolín Nin Martínez\, Hato Rey\, PR\, 00918\, Puerto Rico
CATEGORIES:Seminar
ORGANIZER;CN="PRLTAP":MAILTO:prt2.webmaster@gmail.com
END:VEVENT
BEGIN:VEVENT
DTSTART;TZID=America/Puerto_Rico:20260226T080000
DTEND;TZID=America/Puerto_Rico:20260226T163000
DTSTAMP:20260421T202837
CREATED:20260204T185354Z
LAST-MODIFIED:20260204T185448Z
UID:19355-1772092800-1772123400@prltap.org
SUMMARY:Técnicas de Evaluación de Defectos en Pavimentos Flexibles
DESCRIPTION:REGISTRO \nCentro de Transferencia de Tecnología en Transportación\nCo-auspiciado por el Capítulo de Aguadilla del CIAPR \n  \nFECHA y HORA:\nJueves\, 26 de febrero de 2026\n8:00 AM Registro\n8:30 AM – 4:30 PM \n\nHORAS CONTACTO:\nSeis (6) horas técnicas aplicables a ingenieros y generales para agrimensores del CIAPR que participen en su totalidad. \n**La determinación final en cuanto a la adjudicación de las Horas Contacto (HC)\, dependerá de los requisitos y regulaciones vigentes del CIAPR.** \n  \nLUGAR:\nCentro Tecnológico Municipal de Moca\nCarr.110 Calle Monseñor J. Torres\, Esquina\,\nCII Mario Medin\nMoca\, Puerto Rico 00676 \n  \nINSTRUCTOR:\nFreddie Salado Martínez\, PhD\, PE\nIngeniero en Transportación \n  \nOBJETIVOS:\nInstruir a los participantes sobre las técnicas de evaluación de pavimentos flexibles para determinar fallas funcionales y estructurales. Se presentarán los principios y procesos del sistema de gestión de pavimentos a nivel de red y de proyecto para evaluar las fallas. El adiestramiento culminará con un taller de práctica para la determinación del índice de condición del pavimento (PCI\, por sus siglas en inglés) siguiendo el procedimiento establecido en el ASTM D6433. \n  \nTEMAS A CUBRIRSE: \n\nIntroducción\n\nSistema de gestión de pavimentos (SGP)\nComponentes del SGP\nCiclo de vida del pavimento\nFHWA-LTPP Program\nASTM D6433\n\n\nNiveles de Gestión de Pavimento\n\nNivel de Proyecto\nNivel de red\n\n\nFallas en pavimentos flexibles\n\nEstructural\nFuncional\n\n\nEvaluación del pavimento flexible\n\nInventario de fallas manual y automatizada\nRugosidad\nFricción de la superficie\nPrueba no-destructiva\n\n\nDeterminación del índice de condición (PCI) del pavimento flexible\nTaller grupal: evaluación del pavimento flexible para el cómputo del PCI\n\n  \n  \nINFORMACIÓN DE CONTACTO: \nCentro de Transferencia de Tecnología en Transportación\nSrta. Ciara Toro Rosario (ciara.toro@upr.edu)\nSrta. Cristina Riberas González (cristina.riberas@upr.edu)\nTeléfonos: 787-834-6385 (Directo)\n787-832-4040\, Exts. 3393 o 3403 \n  \nAutoridad de Carreteras y Transportación (ACT)\nAimee Dilán (adilan@act.pr.gov)\nTeléfono: 787-721-8787; Ext. 57220/52049\nNOTA: Favor enviar la Forma ACT 770 completar el formulario de registro \n\n***Autorizado por la Oficina del Contralor Electoral\, Núm. OCE-SA-2023-00411***
URL:https://prltap.org/eng/event/tecnicas-de-evaluacion-de-defectos-en-pavimentos-flexibles-3/
LOCATION:Centro Tecnológico Municipal de Moca\, Carr. 110 Calle Monseñor J. Torres\, Esquina CII Mario Medin\, Moca\, PR\, 00676\, Puerto Rico
CATEGORIES:Seminar
END:VEVENT
END:VCALENDAR