BEGIN:VCALENDAR
VERSION:2.0
PRODID:-//T2 Center - ECPv6.15.18//NONSGML v1.0//EN
CALSCALE:GREGORIAN
METHOD:PUBLISH
X-ORIGINAL-URL:https://prltap.org/eng
X-WR-CALDESC:Events for T2 Center
REFRESH-INTERVAL;VALUE=DURATION:PT1H
X-Robots-Tag:noindex
X-PUBLISHED-TTL:PT1H
BEGIN:VTIMEZONE
TZID:America/Puerto_Rico
BEGIN:STANDARD
TZOFFSETFROM:-0400
TZOFFSETTO:-0400
TZNAME:AST
DTSTART:20250101T000000
END:STANDARD
END:VTIMEZONE
BEGIN:VEVENT
DTSTART;TZID=America/Puerto_Rico:20260116T080000
DTEND;TZID=America/Puerto_Rico:20260116T120000
DTSTAMP:20260421T220212
CREATED:20251217T170041Z
LAST-MODIFIED:20251217T170114Z
UID:19272-1768550400-1768564800@prltap.org
SUMMARY:Conceptos Básicos de Deslizamientos de Tierra y Prácticas de Mitigación
DESCRIPTION:REGÍSTRESE AQUÍ \n  \nFECHA Y HORA: \nViernes\, 16 de enero de 2026 \nRegistro: 8:00 AM – 8:30 AM \n8:30 a. m. – 12:00 p. m. \n  \nHoras Contacto: Tres (3) horas técnicas para ingenieros y generales para agrimensores del CIAPR. \n  \nLugar: \nCIAPR\, Capítulo de Guayama \nCarr. 748\, Km. 3.1\, Bo. Corazones \nGuayama\, Puerto Rico 0078 \n  \nINSTRUCTORA: \nDra. Beatriz I. Camacho Padrón \nCatedrática Asociada \nDepartamento de Ingeniería Civil y Agrimensura \nUPR – Recinto Universitario de Mayagüez \n  \n  \nTEMAS DEL CURSO:\n\nConceptos básicos relacionados con deslizamientos de tierra tales como tipos de deslizamientos.\nConceptos básicos relacionados con los métodos de análisis geotécnicos.\nConceptos básicos relacionados con medidas de mitigación.\n\n  \n  \nINFORMACIÓN DE CONTACTO: \nCentro de Transferencia de Tecnología en Transportación\nSrta. Ciara Toro Rosario (ciara.toro@upr.edu)\nSrta. Cristina Riberas González (cristina.riberas@upr.edu)\nTeléfono: 787-834-6385 (Directo)\n787-832-4040 Exts. 3393\, 3403 \nAutoridad de Carreteras y Transportación (ACT)\nAimee Dilán (adilan@act.pr.gov)\nTeléfono: 787-721-8787 Exts. 57220 / 52049 \nNOTA: Favor enviar la Forma ACT 770 y completar el formulario de registro.
URL:https://prltap.org/eng/event/conceptos-basicos-de-deslizamientos-de-tierra-y-practicas-de-mitigacion-2/
LOCATION:CIAPR Capítulo de Guayama\, Carr. 748\, Km. 3.1\, Bo. Corazones\, Guayama\, 00784\, Puerto Rico
CATEGORIES:Seminar
ORGANIZER;CN="PRLTAP":MAILTO:prt2.webmaster@gmail.com
END:VEVENT
BEGIN:VEVENT
DTSTART;TZID=America/Puerto_Rico:20260122T080000
DTEND;TZID=America/Puerto_Rico:20260122T163000
DTSTAMP:20260421T220212
CREATED:20260128T155849Z
LAST-MODIFIED:20260128T155850Z
UID:19312-1769068800-1769099400@prltap.org
SUMMARY:Evaluación Geomática: Áreas de Deslizamientos de Tierra cerca a las Carreteras
DESCRIPTION:REGISTRO \n  \nFECHA Y HORA:\nJueves\, 22 de enero de 2026\n8:00 AM Registro\n8:30 AM – 4:30 PM \n  \nHoras Contacto: Seis (6) horas técnicas aplicables a ingenieros y agrimensores del CIAPR que participen en su totalidad. \n  \nLUGAR:\nSede del CIAPR – Hato Rey\nSalón Ing. Carlos Salgado\nAve. Domenech\, Calle Ing. Antolín Nin Martínez\nHato Rey\, Puerto Rico 00918 \n  \nINSTRUCTORA:\nEvi De La Rosa Ricciardi\, PhD\, PS\, EIT\nCatedrática\nDepartamento de Ingeniería Civil y Agrimensura\nUPR – Recinto de Mayagüez \n  \nOBJETIVOS \n\nEstudiar los deslizamientos de terrenos y discutir algunas guías existentes en Puerto Rico.\nDefinir fuentes de información para definir niveles de riesgo a deslizamientos de tierra.\nConocer las consideraciones de seguridad en las carreteras\, las recomendaciones de MUTCD y posible TTC que guían\, advierten y protegen a los usuarios de la vía y a los trabajadores.\nIdentificar los sistemas de coordenadas planas estatales para Puerto Rico e Islas Vírgenes (Lambert) y las coordenadas del sistema Universal Transversal Mercator (UTM).\nEstablecer los criterios de georreferenciación por parte de las agencias gubernamentales de Puerto Rico.\nEstudiar los datum de referencia de acuerdo al método utilizado en la recolección de datos.\nDefinir la evaluación de áreas de deslizamiento de terrenos desde el reconocimiento hasta la recolección de datos.\nAnalizar el proceso de documentación de casos de deslizamientos de carreteras en Puerto Rico.\n\n  \nTEMAS A CUBRIRSE \n\nIntroducción\nDefiniciones y Terminología\n\nDeslizamientos de Tierra\nGuía de Deslizamientos\nPartes de un Deslizamiento\n\n\nConsideraciones de Seguridad en las Carreteras\nSistemas de Coordenadas\n\nDatums\n\n\nEvaluación de Áreas de Deslizamientos\n\nReconocimiento\nRecolección de Datos\nMétodos de Campo\nProductos\n\n\nCasos\nRecomendaciones\n\n  \n  \nINFORMACIÓN DE CONTACTO: \nCentro de Transferencia de Tecnología en Transportación\nSrta. Ciara J. Toro Rosario: ciara.toro@upr.edu\nSrta. Cristina M. Riberas González: cristina.riberas@upr.edu\nTeléfonos: 787-834-6385 (Directo) | 787-832-4040 Exts. 3393\, 3403 \nAutoridad de Carreteras y Transportación (ACT)\nAimee Dilán (adilan@act.pr.gov)\nTeléfono: 787-721-8787 Ext. 51044\nNOTA: Favor enviar la Forma ACT 770 y completar el formulario de registro.
URL:https://prltap.org/eng/event/evaluacion-geomatica-areas-de-deslizamientos-de-tierra-cerca-a-las-carreteras-3/
LOCATION:CIAPR – Hato Rey Salón Ing. Carlos Salgado\, Sede del CIAPR - Hato Rey Salón Ing. Carlos Salgado Ave. Domenech\, Calle Ing. Antolín Nin Martínez\, Hato Rey\, 00918\, Puerto Rico
CATEGORIES:Seminar
ORGANIZER;CN="PRLTAP":MAILTO:prt2.webmaster@gmail.com
END:VEVENT
BEGIN:VEVENT
DTSTART;TZID=America/Puerto_Rico:20260123T080000
DTEND;TZID=America/Puerto_Rico:20260123T163000
DTSTAMP:20260421T220212
CREATED:20260128T144129Z
LAST-MODIFIED:20260128T144129Z
UID:19301-1769155200-1769185800@prltap.org
SUMMARY:Estimación de Capacidad Vial Usando el Highway Capacity Software (HCS)
DESCRIPTION:REGISTRO \n  \nFECHA y HORA:\nViernes\, 23 de enero de 2026\n8:00 AM Registro\n8:30 AM – 4:30 PM \n  \nHoras Contacto: Seis (6) horas técnicas aplicables a ingenieros y generales para agrimensores del CIAPR que participen en su totalidad. \n  \nLUGAR:\nSalón CAIReL\, Edificio de Ingeniería Civil y Agrimensura\nUniversidad de Puerto Rico\nRecinto Universitario de Mayagüez \n  \nINSTRUCTOR:\nDr. Didier M. Valdés Díaz\nCatedrático\nDepartamento de Ingeniería Civil y Agrimensura\nUPR-Recinto de Mayagüez \n  \nOBJETIVOS: \n\nComprender los conceptos fundamentales de capacidad en las carreteras y el nivel de servicio.​\nIdentificar los datos necesarios para realizar análisis con el Highway Capacity Software (HCS).​\nAplicar el HCS para evaluar distintos tipos de instalaciones viales.​\nInterpretar los resultados del HCS para apoyar las decisiones de diseño y operación.\n\n  \nDESCRIPCIÓN DEL TALLER:\nAprender a utilizar el Highway Capacity Software (HCS) para analizar la capacidad y el nivel de servicio en distintos tipos de instalaciones viales. Se cubrirán los conceptos básicos del Highway Capacity Manual (HCM). \n  \nINFORMACIÓN DE CONTACTO: \nCentro de Transferencia de Tecnología en Transportación\nSrta. Ciara Toro Rosario: ciara.toro@upr.edu\nSrta. Cristina M. Riberas: cristina.riberas@upr.edu\nTeléfonos: 787-834-6385 (Directo)\n787-832-4040 Exts. 3393\, 3403 \n  \nAutoridad de Carreteras y Transportación (ACT)\nAimee Dilán (adilan@act.pr.gov)\nTeléfono: 787-721-8787; Ext. 51044 \n  \nNOTA: Favor enviar la Forma ACT 770 y completar el formulario de registro.
URL:https://prltap.org/eng/event/estimacion-de-capacidad-vial-usando-el-highway-capacity-software-hcs/
LOCATION:Salón CAIRel\, Edificio de Ingeniería Civil y Agrimensura Universidad de Puerto Rico Recinto Universitario de Mayagüez\, Mayaguez\, 00680\, Puerto Rico
CATEGORIES:Seminar
ORGANIZER;CN="PRLTAP":MAILTO:prt2.webmaster@gmail.com
END:VEVENT
BEGIN:VEVENT
DTSTART;TZID=America/Puerto_Rico:20260130T080000
DTEND;TZID=America/Puerto_Rico:20260130T163000
DTSTAMP:20260421T220212
CREATED:20260128T144327Z
LAST-MODIFIED:20260128T144327Z
UID:19303-1769760000-1769790600@prltap.org
SUMMARY:Principios Básicos de Contratación y Reclamaciones en Construcción de Carreteras
DESCRIPTION:REGISTRO \n  \nFECHA y HORA:\nViernes\, 30 de enero de 2026\n8:00 AM Registro\n8:30 AM – 4:30 PM \n  \nHORAS CONTACTO: Seis (6) horas técnicas aplicables a ingenieros y generales para agrimensores del CIAPR que participen en su totalidad. \n  \nLUGAR:\nAuditorio INCI (Ingeniería Civil)\nDepartamento de Ingeniería Civil y Agrimensura\nRecinto Universitario de Mayagüez (RUM)\nCarretera PR-108\nMayagüez\, PR 00682 \n  \nINSTRUCTOR:\nDr. José L. Perdomo Rivera\nCatedrático\nDepartamento de Ingeniería Civil y Agrimensura\nUPR-Recinto Universitario de Mayagüez \n  \nAUDIENCIA:\nEste seminario está dirigido a personal de la ACT y de los municipios que son ingenieros\, agrimensores\, gerentes de proyectos de construcción\, supervisores y administradores que tienen la responsabilidad de regular\, recomendar y tomar decisiones respecto a proyectos de construcción. \n  \nOBJETIVOS\nFamiliarizar a los participantes con los conceptos básicos de gerencia de contratos de construcción y reclamaciones que puedan surgir en un proyecto de construcción. \n  \nTEMAS A CUBRIRSE: \n\nContratación\nNaturaleza de Contratos\nParticipantes Envueltos\nTérminos y Condiciones\nIncumplimiento y Remedios\nDocumentación\nFunciones Relacionadas a Calidad\nReclamaciones\nDefiniciones\nTipos\nCausas Evitar Reclamos\n\n  \nINFORMACIÓN DE CONTACTO: \nCentro de Transferencia de Tecnología en Transportación\nSrta. Cristina Riberas González\nEmail: cristina.riberas@upr.edu\nTeléfono: 787-834-6385 (Directo)\n787-832-4040 Exts. 3393\, 3403 \n  \nAutoridad de Carreteras y Transportación (ACT)\nAimee Dilán (adilan@act.pr.gov)\nTeléfono: 787-721-8787 Exts. 57220 / 52049 \n  \nNOTA: Favor enviar la forma ACT 770 y completar la hoja de registro.
URL:https://prltap.org/eng/event/principios-basicos-de-contratacion-y-reclamaciones-en-construccion-de-carreteras/
LOCATION:Auditorio\, Edificio de Ingeniería Civil y Agrimensura Universidad de Puerto Rico Recinto Universitario de Mayagüez\, Mayagüez\, 00680\, Puerto Rico
CATEGORIES:Seminar
ORGANIZER;CN="PRLTAP":MAILTO:prt2.webmaster@gmail.com
END:VEVENT
END:VCALENDAR