BEGIN:VCALENDAR
VERSION:2.0
PRODID:-//T2 Center - ECPv6.15.18//NONSGML v1.0//EN
CALSCALE:GREGORIAN
METHOD:PUBLISH
X-WR-CALNAME:T2 Center
X-ORIGINAL-URL:https://prltap.org/eng
X-WR-CALDESC:Events for T2 Center
REFRESH-INTERVAL;VALUE=DURATION:PT1H
X-Robots-Tag:noindex
X-PUBLISHED-TTL:PT1H
BEGIN:VTIMEZONE
TZID:America/Puerto_Rico
BEGIN:STANDARD
TZOFFSETFROM:-0400
TZOFFSETTO:-0400
TZNAME:AST
DTSTART:20250101T000000
END:STANDARD
END:VTIMEZONE
BEGIN:VEVENT
DTSTART;TZID=America/Puerto_Rico:20260408T080000
DTEND;TZID=America/Puerto_Rico:20260408T120000
DTSTAMP:20260419T173209
CREATED:20260317T125253Z
LAST-MODIFIED:20260317T125253Z
UID:19530-1775635200-1775649600@prltap.org
SUMMARY:Cumbre | Innovación\, Talento y el Futuro de la Transportación en Puerto Rico
DESCRIPTION:REGISTRO \n  \nFECHA Y HORA:\nMiércoles\, 8 de abril de 2026\n8:00 AM Registro\n8:30 AM – 12:00 PM \nHoras Contacto: 3.5 horas generales para ingenieros y agrimensores del CIAPR \nLUGAR:\nSede del Colegio de Ingenieros y Agrimensores de Puerto Rico\nTeatro Ing. Salvador V. Caro\nAve. Domenech\, Calle Ing. Antolín Nin\nHato Rey\, Puerto Rico \n  \n  \nOBJETIVOS \n\nIdentificar los retos actuales y futuros de la fuerza laboral en el sector de transportación en Puerto Rico.\nPresentar estrategias efectivas para fortalecer el talento en agencias gubernamentales\, municipios y el sector privado.\nPresentar estrategias para enfrentar la escasez de mano de obra calificada en la construcción y la transportación.\n\n  \n  \nPRESENTACIONES: \nDesarrollo de la Fuerza Laboral en la Transportación en Puerto Rico: Retos y Oportunidades\nDr. Edwin E. González Montalvo\, Secretario\nDepartamento de Transportación y Obras Públicas \nPerspectiva Federal sobre las Habilidades en Transportación y el Desarrollo de la Fuerza Laboral\nDanielle Mathis-Lee\, Gerente del Programa LTAP\nAdministración Federal de Carreteras (FHWA) \nTendencias en Desarrollo que Enfrentan la Industria y los Profesionales de la Transportación\nIng. Rosana Correa\, Pasada Presidenta Internacional\nIng. Eric Rensel\, Comité de Desarrollo Profesional\nInstituto de Ingenieros de Transportación (ITE) \nAdiestramiento que se Traduce en Ganancias: Una Solución para el Sector Público y Privado\nArq. Umberto J. Donato\, Presidente del Comité de Fuerza Laboral\nAsociación de Contratistas Generales – Capítulo de Puerto Rico \nPerspectiva de los Ingenieros Civiles en el Desarrollo de la Fuerza Laboral en el Sector de la Transportación\nIng. Madeline Muñiz Pérez\, Presidenta\nInstituto de Ingenieros Civiles\nColegio de Ingenieros y Agrimensores de Puerto Rico \n  \nLa actividad es presencial y libre de costo. Favor de registrarse a través del siguiente enlace para participar: \n\n\n \nhttps://forms.gle/eP8NPkX4B3xTy36WA \nSerá notificado por correo electrónico si fue confirmado su registro o si fue colocado en una lista de espera. \n  \nINFORMACIÓN DE CONTACTO\nCentro de Transferencia de Tecnología en Transportación\nSra. Grisel Villarrubia Echevarría\nE-mail: grisel.villarubia1@upr.edu\nTeléfono: 787-834-6385 (Directo)\n787-832-4040 Exts. 3393\, 3403 \nACT\nSra. Jamilis Medina\nE-mail: jammedina@act.pr.gov\nNOTA: Favor enviar la Forma ACT 770 a la Sra. Jamilis Medina y completar el formulario de registro.
URL:https://prltap.org/eng/event/cumbre-innovacion-talento-y-el-futuro-de-la-transportacion-en-puerto-rico/
LOCATION:CIAPR Hato Rey\, Teatro Ing. Salvador V. Cano\, Ave. Domenech\, Calle Ing. Antolín Nin Martínez\, Hato Rey\, PR\, 00918
CATEGORIES:Seminar
ORGANIZER;CN="PRLTAP":MAILTO:prt2.webmaster@gmail.com
END:VEVENT
END:VCALENDAR