BEGIN:VCALENDAR
VERSION:2.0
PRODID:-//T2 Center - ECPv6.15.18//NONSGML v1.0//EN
CALSCALE:GREGORIAN
METHOD:PUBLISH
X-WR-CALNAME:T2 Center
X-ORIGINAL-URL:https://prltap.org/eng
X-WR-CALDESC:Events for T2 Center
REFRESH-INTERVAL;VALUE=DURATION:PT1H
X-Robots-Tag:noindex
X-PUBLISHED-TTL:PT1H
BEGIN:VTIMEZONE
TZID:America/Puerto_Rico
BEGIN:STANDARD
TZOFFSETFROM:-0400
TZOFFSETTO:-0400
TZNAME:AST
DTSTART:20250101T000000
END:STANDARD
END:VTIMEZONE
BEGIN:VEVENT
DTSTART;TZID=America/Puerto_Rico:20260313T090000
DTEND;TZID=America/Puerto_Rico:20260313T113000
DTSTAMP:20260419T140239
CREATED:20260305T193437Z
LAST-MODIFIED:20260305T193437Z
UID:19474-1773392400-1773401400@prltap.org
SUMMARY:Webinar | Certificado "Road Safety Champion Program (RSCP)" Módulo 3: Visión General de los Planes Locales de Seguridad Vial
DESCRIPTION:REGISTRO \n  \nFECHA Y HORA:\nViernes\, 13 de marzo de 2026\n9:20 AM a 11:30 AM (AST)\n(la sala virtual abrirá a las 9:00 AM) \n  \nHoras Contacto: Dos (2) horas técnicas para ingenieros y generales para agrimensores del CIAPR. \n  \nPLATAFORMA:\nGoToWebinar \n  \nINSTRUCTOR:\nWilfredo Cordero Cruz\, MECE\, PE\, RSP1\nIngeniero en Transportación \n  \n  \nREQUERIMIENTOS PARA CUALIFICAR PARA LAS HORAS CONTACTO DEL CIAPR:\n1. Participar en el tiempo mínimo de participación requerido: 9:40 AM a 11:30 AM.\n2. Durante el adiestramiento el Instructor mencionará cuatro (4) palabras claves.\n3. Luego de finalizado el adiestramiento\, los participantes deben completar un formulario digital para escribir las cuatro (4) palabras claves mencionadas por el Instructor.\n4. Debe tener correctas al menos tres (3) de las palabras claves para cualificar para las horas contacto.\n5. Tendrá solo una oportunidad para contestar el formulario en un periodo de 48 horas de días laborables luego de finalizado el adiestramiento.\n\n\n\nOBJETIVO \nAl concluir este módulo\, los participantes conocerán cómo los Planes Locales de Seguridad Vial (LRSP\, por sus siglas en inglés) pueden reducir las muertes y lesiones graves en las carreteras de sus comunidades\, así como el proceso para desarrollar e implementar exitosamente un LRSP.\n\n\n\n\nTEMAS A CUBRIRSE \n\nDefinir qué es un LRSP y los modelos disponibles para su desarrollo.\nExplicar los beneficios de un LRSP y cómo estos planes apoyan los esfuerzos de seguridad a nivel nacional\, estatal y local.\nDescribir los pasos para desarrollar un LRSP y los recursos disponibles para apoyar el proceso.\nDiscutir estrategias para implementar con éxito los LRSP.\n\n\n  \nINFORMACIÓN DE CONTACTO\nCentro de Transferencia de Tecnología en Transportación\nSrta. Ciara Toro Rosario (ciara.toro@upr.edu)\nSrta. Cristina Riberas González (cristina.riberas@upr.edu)\nTeléfonos: 787-834-6385 (Directo)\n787-832-4040 Exts. 3393\, 3403 \nACT\nAimee Dilán (adilan@act.pr.gov)\nTeléfono: 787-721-8787 Exts. 57220 / 52049\nNOTA: Empleados de la ACT favor enviar la Forma ACT 770 y completar el registro.
URL:https://prltap.org/eng/event/webinar-certificado-road-safety-champion-program-rscp-modulo-3-vision-general-de-los-planes-locales-de-seguridad-vial/
CATEGORIES:Webinar
ORGANIZER;CN="PRLTAP":MAILTO:prt2.webmaster@gmail.com
END:VEVENT
END:VCALENDAR