BEGIN:VCALENDAR
VERSION:2.0
PRODID:-//T2 Center - ECPv6.15.18//NONSGML v1.0//EN
CALSCALE:GREGORIAN
METHOD:PUBLISH
X-WR-CALNAME:T2 Center
X-ORIGINAL-URL:https://prltap.org/eng
X-WR-CALDESC:Events for T2 Center
REFRESH-INTERVAL;VALUE=DURATION:PT1H
X-Robots-Tag:noindex
X-PUBLISHED-TTL:PT1H
BEGIN:VTIMEZONE
TZID:America/Puerto_Rico
BEGIN:STANDARD
TZOFFSETFROM:-0400
TZOFFSETTO:-0400
TZNAME:AST
DTSTART:20250101T000000
END:STANDARD
END:VTIMEZONE
BEGIN:VEVENT
DTSTART;TZID=America/Puerto_Rico:20260217T073000
DTEND;TZID=America/Puerto_Rico:20260217T120000
DTSTAMP:20260419T173138
CREATED:20260128T142324Z
LAST-MODIFIED:20260128T142324Z
UID:19292-1771313400-1771329600@prltap.org
SUMMARY:Webinar | Protección contra Caídas en la Construcción Vial
DESCRIPTION:REGISTRO \n  \nFECHA Y HORA:\nMartes\, 17 de febrero de 2026\n7:50 AM – 12:00 PM (AST)\n(la sala virtual abrirá a las 7:30 AM) \n  \nHoras Contacto (HC):\nCuatro (4) horas generales para ingenieros y agrimensores del CIAPR que participen en el adiestramiento en su totalidad. \n  \nPLATAFORMA:\nGoToWebinar \n  \nINSTRUCTOR:\nSr. Robinson Vásquez\, LLM\, MBA\nGerente de Adiestramientos en Seguridad\nARTBA \n  \nRequerimientos para Cualificar para las Horas Contacto del CIAPR \n1. Participar en el tiempo mínimo de participación requerido: 8:15 AM a 12:00 PM.\n2. Durante el adiestramiento el Instructor mencionará cuatro (4) palabras claves.\n3. Luego de finalizado el adiestramiento\, los participantes deben completar un formulario digital para escribir las cuatro (4) palabras claves mencionadas por el Instructor.\n4. Debe tener correctas al menos tres (3) de las palabras claves para cualificar para las horas contacto.\n5. Tendrá solo una oportunidad para contestar el formulario en un periodo de 48 horas de días laborables luego de finalizado el adiestramiento.\n  \n  \nAUDIENCIA RECOMENDADA \n\nSupervisores y personal responsable de la seguridad y salud ocupacional de trabajadores de la construcción vial y similares.\nTrabajadores de la construcción vial de los sectores público y privado.\n\n  \nDESCRIPCIÓN DEL CURSO: \nLas caídas son la principal causa de muerte en la industria de la construcción en general y la segunda en la construcción vial. En este curso se analizarán las causas más comunes de caídas y se presentarán estrategias de prevención basadas en la normativa de OSHA y las mejores prácticas del sector.\n  \n  \nINFORMACIÓN DE CONTACTO: \nCentro de Transferencia de Tecnología y Transportación\nSrta. Ciara Toro Rosario: ciara.toro@upr.edu\nSrta. Cristina Riberas González: cristina.riberas@upr.edu\nTeléfono: 787-834-6385 (Directo)\n787-832-4040 Ext. 3393\, 3403 \nAutoridad de Carreteras y Transportación (ACT)\nAimee Dilán: adilan@act.pr.gov\nTeléfono: 787-721-8787 Exts. 57220 / 52049 \n  \nNota: Favor de enviar la forma ACT 770 y completar el formulario de registro.
URL:https://prltap.org/eng/event/webinar-proteccion-contra-caidas-en-la-construccion-vial/
CATEGORIES:Webinar
ORGANIZER;CN="PRLTAP":MAILTO:prt2.webmaster@gmail.com
END:VEVENT
END:VCALENDAR