BEGIN:VCALENDAR
VERSION:2.0
PRODID:-//T2 Center - ECPv6.15.18//NONSGML v1.0//EN
CALSCALE:GREGORIAN
METHOD:PUBLISH
X-ORIGINAL-URL:https://prltap.org/eng
X-WR-CALDESC:Events for T2 Center
REFRESH-INTERVAL;VALUE=DURATION:PT1H
X-Robots-Tag:noindex
X-PUBLISHED-TTL:PT1H
BEGIN:VTIMEZONE
TZID:America/Puerto_Rico
BEGIN:STANDARD
TZOFFSETFROM:-0400
TZOFFSETTO:-0400
TZNAME:AST
DTSTART:20250101T000000
END:STANDARD
END:VTIMEZONE
BEGIN:VEVENT
DTSTART;TZID=America/Puerto_Rico:20260122T080000
DTEND;TZID=America/Puerto_Rico:20260122T163000
DTSTAMP:20260419T171054
CREATED:20260128T155849Z
LAST-MODIFIED:20260128T155850Z
UID:19312-1769068800-1769099400@prltap.org
SUMMARY:Evaluación Geomática: Áreas de Deslizamientos de Tierra cerca a las Carreteras
DESCRIPTION:REGISTRO \n  \nFECHA Y HORA:\nJueves\, 22 de enero de 2026\n8:00 AM Registro\n8:30 AM – 4:30 PM \n  \nHoras Contacto: Seis (6) horas técnicas aplicables a ingenieros y agrimensores del CIAPR que participen en su totalidad. \n  \nLUGAR:\nSede del CIAPR – Hato Rey\nSalón Ing. Carlos Salgado\nAve. Domenech\, Calle Ing. Antolín Nin Martínez\nHato Rey\, Puerto Rico 00918 \n  \nINSTRUCTORA:\nEvi De La Rosa Ricciardi\, PhD\, PS\, EIT\nCatedrática\nDepartamento de Ingeniería Civil y Agrimensura\nUPR – Recinto de Mayagüez \n  \nOBJETIVOS \n\nEstudiar los deslizamientos de terrenos y discutir algunas guías existentes en Puerto Rico.\nDefinir fuentes de información para definir niveles de riesgo a deslizamientos de tierra.\nConocer las consideraciones de seguridad en las carreteras\, las recomendaciones de MUTCD y posible TTC que guían\, advierten y protegen a los usuarios de la vía y a los trabajadores.\nIdentificar los sistemas de coordenadas planas estatales para Puerto Rico e Islas Vírgenes (Lambert) y las coordenadas del sistema Universal Transversal Mercator (UTM).\nEstablecer los criterios de georreferenciación por parte de las agencias gubernamentales de Puerto Rico.\nEstudiar los datum de referencia de acuerdo al método utilizado en la recolección de datos.\nDefinir la evaluación de áreas de deslizamiento de terrenos desde el reconocimiento hasta la recolección de datos.\nAnalizar el proceso de documentación de casos de deslizamientos de carreteras en Puerto Rico.\n\n  \nTEMAS A CUBRIRSE \n\nIntroducción\nDefiniciones y Terminología\n\nDeslizamientos de Tierra\nGuía de Deslizamientos\nPartes de un Deslizamiento\n\n\nConsideraciones de Seguridad en las Carreteras\nSistemas de Coordenadas\n\nDatums\n\n\nEvaluación de Áreas de Deslizamientos\n\nReconocimiento\nRecolección de Datos\nMétodos de Campo\nProductos\n\n\nCasos\nRecomendaciones\n\n  \n  \nINFORMACIÓN DE CONTACTO: \nCentro de Transferencia de Tecnología en Transportación\nSrta. Ciara J. Toro Rosario: ciara.toro@upr.edu\nSrta. Cristina M. Riberas González: cristina.riberas@upr.edu\nTeléfonos: 787-834-6385 (Directo) | 787-832-4040 Exts. 3393\, 3403 \nAutoridad de Carreteras y Transportación (ACT)\nAimee Dilán (adilan@act.pr.gov)\nTeléfono: 787-721-8787 Ext. 51044\nNOTA: Favor enviar la Forma ACT 770 y completar el formulario de registro.
URL:https://prltap.org/eng/event/evaluacion-geomatica-areas-de-deslizamientos-de-tierra-cerca-a-las-carreteras-3/
LOCATION:CIAPR – Hato Rey Salón Ing. Carlos Salgado\, Sede del CIAPR - Hato Rey Salón Ing. Carlos Salgado Ave. Domenech\, Calle Ing. Antolín Nin Martínez\, Hato Rey\, 00918\, Puerto Rico
CATEGORIES:Seminar
ORGANIZER;CN="PRLTAP":MAILTO:prt2.webmaster@gmail.com
END:VEVENT
END:VCALENDAR