BEGIN:VCALENDAR
VERSION:2.0
PRODID:-//T2 Center - ECPv6.15.18//NONSGML v1.0//EN
CALSCALE:GREGORIAN
METHOD:PUBLISH
X-ORIGINAL-URL:https://prltap.org/eng
X-WR-CALDESC:Events for T2 Center
REFRESH-INTERVAL;VALUE=DURATION:PT1H
X-Robots-Tag:noindex
X-PUBLISHED-TTL:PT1H
BEGIN:VTIMEZONE
TZID:America/Puerto_Rico
BEGIN:STANDARD
TZOFFSETFROM:-0400
TZOFFSETTO:-0400
TZNAME:AST
DTSTART:20250101T000000
END:STANDARD
END:VTIMEZONE
BEGIN:VEVENT
DTSTART;TZID=America/Puerto_Rico:20260120T090000
DTEND;TZID=America/Puerto_Rico:20260120T113000
DTSTAMP:20260419T110931
CREATED:20260128T155456Z
LAST-MODIFIED:20260128T155456Z
UID:19310-1768899600-1768908600@prltap.org
SUMMARY:Ruta Mantenimiento y Construcción del Certificado RSC - Módulo 1: Manteniendo una Carretera Segura
DESCRIPTION:REGISTRO \n  \nFECHA Y HORA:\nMartes\, 20 de enero de 2026\n9:20 AM a 11:30 AM (AST)\n(la sala virtual abrirá a las 9:00 AM) \n  \nHoras Contacto: Dos (2) horas técnicas para ingenieros y generales para agrimensores del CIAPR. \n  \nPLATAFORMA: GoToWebinar \n  \nINSTRUCTOR:\nFreddie Salado Martínez\, PhD\, PE\nIngeniero en Transportación\nPresidente SIE Consultants \n  \nREQUERIMIENTOS PARA CUALIFICAR PARA LAS HORAS CONTACTO DEL CIAPR:\n1. Participar en el tiempo mínimo de participación requerido: 9:40 AM a 11:30 AM.\n2. Durante el adiestramiento el Instructor mencionará cuatro (4) palabras claves.\n3. Luego de finalizado el adiestramiento\, los participantes deben completar un formulario digital para escribir las cuatro (4) palabras claves mencionadas por el Instructor.\n4. Debe tener correctas al menos tres (3) de las palabras claves para cualificar para las horas contacto.\n5. Tendrá solo una oportunidad para contestar el formulario en un periodo de 48 horas de días laborables luego de finalizado el adiestramiento. \n  \nOBJETIVOS\nAl completar este módulo\, los participantes tendrán las herramientas prácticas para mejorar la seguridad vial mediante actividades efectivas de mantenimiento\, construcción y cambios en políticas operacionales\, reduciendo los accidentes en las carreteras. \n  \nTEMAS A CUBRIRSE \n\nLa seguridad vial como prioridad nacional.\nCómo los cambios en políticas y procedimientos impactan la seguridad.\nActividades de mantenimiento que influyen directamente en la seguridad vial.\nPavimento\, drenaje\, señalización\, vegetación y zonas de trabajo\nAcciones prácticas para identificar y corregir condiciones inseguras.\n\n  \nINFORMACIÓN DE CONTACTO\nCentro de Transferencia de Tecnología en Transportación\nSrta. Ciara Toro Rosario (ciara.toro@upr.edu)\nSrta. Cristina Riberas González (cristina.riberas@upr.edu)\nTeléfonos: 787-834-6385 (Directo) | 787-832-4040 Exts. 3393\, 3403 \nACT\nAimee Dilán (adilan@act.pr.gov)\nTeléfono: 787-721-8787 Exts. 57220 / 52049\nNOTA: Empleados de la ACT favor enviar la Forma ACT 770 y completar el registro.
URL:https://prltap.org/eng/event/ruta-mantenimiento-y-construccion-del-certificado-rsc-modulo-1-manteniendo-una-carretera-segura/
CATEGORIES:Webinar
ORGANIZER;CN="PRLTAP":MAILTO:prt2.webmaster@gmail.com
END:VEVENT
END:VCALENDAR