BEGIN:VCALENDAR
VERSION:2.0
PRODID:-//T2 Center - ECPv6.15.18//NONSGML v1.0//EN
CALSCALE:GREGORIAN
METHOD:PUBLISH
X-ORIGINAL-URL:https://prltap.org/eng
X-WR-CALDESC:Events for T2 Center
REFRESH-INTERVAL;VALUE=DURATION:PT1H
X-Robots-Tag:noindex
X-PUBLISHED-TTL:PT1H
BEGIN:VTIMEZONE
TZID:America/Puerto_Rico
BEGIN:STANDARD
TZOFFSETFROM:-0400
TZOFFSETTO:-0400
TZNAME:AST
DTSTART:20240101T000000
END:STANDARD
END:VTIMEZONE
BEGIN:VEVENT
DTSTART;TZID=America/Puerto_Rico:20251015T090000
DTEND;TZID=America/Puerto_Rico:20251015T113000
DTSTAMP:20260425T062917
CREATED:20251006T180127Z
LAST-MODIFIED:20251006T180127Z
UID:18241-1760518800-1760527800@prltap.org
SUMMARY:Módulo 2 del Certificado Road Safety Champion (RSC): Comprender los Factores Humanos
DESCRIPTION:  \nRegistro \n  \nFECHA Y HORA:\nMiércoles\, 15 de octubre de 2025\n9:20 AM – 11:30 AM (la sala virtual abrirá a las 9:00 AM) \nHoras Contacto: Dos (2) horas técnicas aplicables a ingenieros y horas generales aplicables para agrimensores del CIAPR. \n**La determinación final en cuanto a la adjudicación de las Horas Contacto (HC) dependerá de los requisitos y regulaciones vigentes del CIAPR.** \n  \nPLATAFORMA:\nGoToWebinar \n  \nINSTRUCTOR:\nDidier M. Valdés Díaz\, PhD\nCatedrático\nDepartamento de Ingeniería Civil y Agrimensura\nUPR-Recinto Universitario de Mayagüez \n  \n  \nOBJETIVOS:\nCapacitar a los profesionales que no trabajan directamente con factores humanos para comprenderlos mejor y entender el papel que juegan los factores humanos en el desarrollo de las políticas de diseño y operación de sistemas viales. \n  \n  \nTEMAS A CUBRIRSE: \n\nExplicar el rol del usuario de la vía como elemento de un sistema.\nIdentificar las capacidades y limitaciones de los usuarios de la vía.\nDescribir cómo las prácticas actuales de diseño geométrico y operaciones de tráfico abordan los factores humanos.\n\n  \n  \nINFORMACIÓN DE CONTACTO: \nCentro de Transferencia de Tecnología en Transportación\nSrta. Cristina Riberas González (cristina.riberas@upr.edu)\nTeléfono: 787-834-6385 (Directo)\n787-832-4040 Exts. 3393\, 3403 \nAutoridad de Carreteras y Transportación (ACT)\nAimee Dilán (adilan@act.pr.gov)\nTeléfono: 787-721-8787 Exts. 57220/52049\nNota: El personal de la ACT favor enviar la Forma ACT 770 y completar el formulario de registro.
URL:https://prltap.org/eng/event/modulo-2-del-certificado-road-safety-champion-rsc-comprender-los-factores-humanos/
CATEGORIES:Webinar
ORGANIZER;CN="PRLTAP":MAILTO:prt2.webmaster@gmail.com
END:VEVENT
END:VCALENDAR