BEGIN:VCALENDAR
VERSION:2.0
PRODID:-//T2 Center - ECPv6.15.18//NONSGML v1.0//EN
CALSCALE:GREGORIAN
METHOD:PUBLISH
X-ORIGINAL-URL:https://prltap.org/eng
X-WR-CALDESC:Events for T2 Center
REFRESH-INTERVAL;VALUE=DURATION:PT1H
X-Robots-Tag:noindex
X-PUBLISHED-TTL:PT1H
BEGIN:VTIMEZONE
TZID:America/Puerto_Rico
BEGIN:STANDARD
TZOFFSETFROM:-0400
TZOFFSETTO:-0400
TZNAME:AST
DTSTART:20240101T000000
END:STANDARD
END:VTIMEZONE
BEGIN:VEVENT
DTSTART;TZID=America/Puerto_Rico:20251008T090000
DTEND;TZID=America/Puerto_Rico:20251008T113000
DTSTAMP:20260424T183214
CREATED:20250915T152713Z
LAST-MODIFIED:20250915T152713Z
UID:17797-1759914000-1759923000@prltap.org
SUMMARY:Webinar | Módulo 1 del Certificado "Road Safety Champion (RSC)":  Introducción a la Seguridad Vial
DESCRIPTION:REGISTRO \n  \nFECHA Y HORA: \nMiércoles\, 8 de octubre de 2025\n9:20 AM a 11:30 AM (AST)\n(la sala virtual abrirá a las 9:00 AM) \n  \nHoras Contacto: Dos (2) horas técnicas para ingenieros y generales para agrimensores del CIAPR \n  \n***La determinación final en cuanto a la adjudicación de las Horas Contacto (HC)\, dependerá de los requisitos y regulaciones vigentes del CIAPR.*** \n  \nPLATAFORMA:\nGoToWebinar \n  \nINSTRUCTOR:\nDr. Alberto M. Figueroa Medina\nCatedrático\nDepartamento de Ingeniería Civil y Agrimensura\nUPR-Recinto de Mayagüez \n  \n  \nOBJETIVOS: \nProporcionar una descripción general de los conceptos básicos relacionados a la seguridad de calles y carreteras. Se incluye una introducción de los temas y conceptos que son parte de la Certificación RSC (Road Safety Champion) del National Center for Rural Road Safety de la Administración Federal de Carreteras (FHWA). \n  \n  \nTEMAS A CUBRIRSE: \n\nDefinir el impacto de la seguridad vial.\nIdentificar los factores asociados a la seguridad de calles y carreteras.\nIdentificar diferencias jurisdiccionales y geográficas en seguridad vial.\nDescribir los esfuerzos nacionales para reducir las muertes y mejorar la seguridad en las carreteras.\nDescribir técnicas colaborativas para mejorar la seguridad en su municipio.\n\n  \n  \nREQUERIMIENTOS PARA CUALIFICAR PARA LAS HORAS CONTACTO DEL CIAPR: \n1. Participar en el tiempo mínimo de participación requerido: 9:40 AM a 11:30 AM.\n2. Durante el adiestramiento el Instructor mencionará cuatro (4) palabras claves.\n3. Luego de finalizado el adiestramiento\, los participantes deben completar un formulario digital para escribir las cuatro (4) palabras claves mencionadas por el\nInstructor.\n4. Debe tener correctas al menos tres (3) de las palabras claves para cualificar para las horas contacto.\n5. Tendrá solo una oportunidad para contestar el formulario en un periodo de 48 horas de días laborables luego de finalizado el adiestramiento. \n  \n  \nINFORMACIÓN DE CONTACTO: \n  \nCentro de Transferencia de Tecnología en Transportación\nSrta. Cristina Riberas González (cristina.riberas@upr.edu)\nTeléfonos: 787-834-6385 (Directo)\n787-832-4040 Exts. 3393\, 3403 \nACT\nAimee Dilán (adilan@act.pr.gov)\nTeléfono: 787-721-8787 Exts. 57220 / 52049\nNOTA: Empleados de la ACT favor enviar la Forma ACT 770 y completar el registro. \n  \n 
URL:https://prltap.org/eng/event/webinar-modulo-1-del-certificado-road-safety-champion-rsc-introduccion-a-la-seguridad-vial/
CATEGORIES:Webinar
ORGANIZER;CN="PRLTAP":MAILTO:prt2.webmaster@gmail.com
END:VEVENT
END:VCALENDAR