BEGIN:VCALENDAR
VERSION:2.0
PRODID:-//T2 Center - ECPv6.15.18//NONSGML v1.0//EN
CALSCALE:GREGORIAN
METHOD:PUBLISH
X-ORIGINAL-URL:https://prltap.org/eng
X-WR-CALDESC:Events for T2 Center
REFRESH-INTERVAL;VALUE=DURATION:PT1H
X-Robots-Tag:noindex
X-PUBLISHED-TTL:PT1H
BEGIN:VTIMEZONE
TZID:America/Puerto_Rico
BEGIN:STANDARD
TZOFFSETFROM:-0400
TZOFFSETTO:-0400
TZNAME:AST
DTSTART:20240101T000000
END:STANDARD
END:VTIMEZONE
BEGIN:VEVENT
DTSTART;TZID=America/Puerto_Rico:20250708T080000
DTEND;TZID=America/Puerto_Rico:20250708T163000
DTSTAMP:20260420T065608
CREATED:20250611T143428Z
LAST-MODIFIED:20250616T124830Z
UID:16970-1751961600-1751992200@prltap.org
SUMMARY:Análisis y Diseño de Alcantarillas ("Culvert")
DESCRIPTION:REGISTRO \nFECHA Y HORA:\nMartes\, 8 de julio de 2025\n8:30 AM – 4:30 PM\n(Registro comienza a las 8:00AM) \nHoras Contacto: Seis (6) horas técnicas para ingenieros y generales para agrimensores del CIAPR que participen en su totalidad. \nLUGAR:\nCIAPR\, Capítulo de Ponce\nBoulevard Ruth Fernández #75\nUrb. El Madrigal\nPonce\, Puerto Rico \nINSTRUCTOR:\nWalter F. Silva Araya\, PhD\nCatedrático\nDepartamento de Ingeniería Civil y Agrimensura\nUPR-Recinto de Mayagüez \nOBJETIVOS:\nEn este seminario se presentará información del Manual de Diseño Hidráulico—HDS-5 publicado por la Administración Federal de Carreteras (FHWA). Las presentaciones se enfocarán en hidráulica de alcantarillas incluyendo consideraciones de diseño\, recolección de datos de campo y diversos métodos de diseño\, entre ellos\, cálculos manuales\, gráficas de diseño\, y programas computadora. \nTEMAS DEL CURSO: \n\nTerminología y clasificación de las condiciones de flujo en alcantarillas según el control hidráulico.\nRevisión de conceptos fundamentales para estimación de parámetros hidráulicos para el diseño de alcantarillas.\nEstimación de diámetros\, geometrías de entrada y niveles de agua para diseño.\nCurvas de funcionamiento (“performance curves”) y perfiles de flujo.\nRehabilitación de alcantarillas.\nIntroducción a disipadores de energía.\nPráctica con el programa FHWA HY-8.\n\n  \nINFORMACIÓN DE CONTACTO: \nCentro de Transferencia de Tecnología en Transportación\nSrta. Ciara J. Toro Rosario (ciara.toro@upr.edu)\nSrta. Cristina M. Riberas González (cristina.riberas@upr.edu)\nTeléfono: 787-834-6385 (Directo)\n787-832-4040 Ext. 3393\, 3403 \nAutoridad de Carreteras y Transportación\nSra. Aimee Dilán: adilan@act.pr.gov\nTeléfonos: 787-721-8787 Ext. 57220 / 52049\nNota: Favor enviar la Forma ACT 770 a la Sra. Aimee Dilán y completar el registro.
URL:https://prltap.org/eng/event/analisis-y-diseno-de-alcantarillas-culvert/
LOCATION:CIAPR Capítulo de Ponce\, Boulevard Ruth Fernández #75 Urbanización El Madrigal\, Ponce\, 00730\, Puerto Rico
CATEGORIES:Seminar
ORGANIZER;CN="PRLTAP":MAILTO:prt2.webmaster@gmail.com
END:VEVENT
END:VCALENDAR