BEGIN:VCALENDAR
VERSION:2.0
PRODID:-//T2 Center - ECPv6.15.18//NONSGML v1.0//EN
CALSCALE:GREGORIAN
METHOD:PUBLISH
X-ORIGINAL-URL:https://prltap.org/eng
X-WR-CALDESC:Events for T2 Center
REFRESH-INTERVAL;VALUE=DURATION:PT1H
X-Robots-Tag:noindex
X-PUBLISHED-TTL:PT1H
BEGIN:VTIMEZONE
TZID:America/Puerto_Rico
BEGIN:STANDARD
TZOFFSETFROM:-0400
TZOFFSETTO:-0400
TZNAME:AST
DTSTART:20240101T000000
END:STANDARD
END:VTIMEZONE
BEGIN:VEVENT
DTSTART;TZID=America/Puerto_Rico:20250626T093000
DTEND;TZID=America/Puerto_Rico:20250626T120000
DTSTAMP:20260420T030629
CREATED:20250616T124258Z
LAST-MODIFIED:20250616T124327Z
UID:16976-1750930200-1750939200@prltap.org
SUMMARY:Webinar | Estadísticas Descriptivas y Análisis de Datos de Transportación usando Excel
DESCRIPTION:REGISTRO \n  \nFECHA Y HORA:\nJueves\, 26 de junio de 2025\n9:50 AM – 12:00 PM (AST)\n(la sala virtual abrirá a las 9:30 AM) \nHORAS CONTACTO: Dos (2) técnicas para ingenieros y generales para agrimensores del CIAPR que participen en su totalidad. \n***La determinación final en cuanto a las adjudicación de las Horas Contacto (HC) dependerá de los requisitos y regulaciones vigentes del CIAPR.*** \nPLATAFORMA:\nGoToWebinar \nINSTRUCTORA:\nDra. Ivette Cruzado Vélez\nCatedrática\nDepartamento de Ingeniería Civil y Agrimensura\nUPR-Recinto de Mayagüez \n  \nDESCRIPCIÓN: \nEste taller práctico está diseñado para introducir el uso de herramientas estadísticas básicas aplicadas a situaciones reales del ámbito laboral. A través de ejercicios sencillos y utilizando Excel como herramienta principal\, los participantes aprenderán a describir\, visualizar y analizar datos de manera efectiva. \n\n\n\nOBJETIVOS:\n\nFamiliarizar a los participantes con conceptos fundamentales de estadística aplicada.\nCapacitar en el uso de Excel como herramienta para el análisis estadístico básico.\nAplicar técnicas estadísticas a situaciones reales relacionadas con el transporte.\n\n\n  \nTEMAS:\n\nEstadística Descriptiva\n\nMedidas de tendencia central: media\, mediana\, moda\nMedidas de dispersión: rango\, varianza\, desviación estándar\n\n\nRepresentación visual de datos\n\nHistogramas\nDiagramas de caja\nGráficos de dispersión y de líneas\n\n\nPruebas de comparaciones\n\nPrueba t para una muestra\nPrueba t para dos muestras\n\n\n\n  \nREQUISITOS PARA EL PARTICIPANTE:  \n\nConocimiento básico de conceptos estadísticos (media\, desviación estándar\, gráficos simples).\nFamiliaridad con el uso básico de Excel (abrir archivos\, ingresar datos\, usar funciones simples).\n\n  \nREQUERIMIENTOS PARA CUALIFICAR PARA LAS HORAS CONTACTO DEL CIAPR:  \n\nAsistir en el tiempo mínimo de participación requerido de 10:10 AM a 12:00 PM.\nDurante el adiestramiento el Instructor mencionará cuatro (4) palabras claves.\nLuego de finalizado el adiestramiento\, los participantes deben completar un formulario digital para escribir las cuatro (4) palabras claves mencionadas por el Instructor.\nDebe tener correctas al menos tres (3) de las palabras claves para cualificar para las horas contacto.\nTendrá solo una oportunidad para contestar el formulario en un periodo de 48 horas de días laborables luego de finalizado el adiestramiento.\n\n  \nINFORMACIÓN DE CONTACTO: \nCentro de Transferencia de Tecnología en Transportación\nSrta. Ciara Toro Rosario (ciara.toro@upr.edu)\nSrta. Cristina Riberas González (cristina.riberas@upr.edu)\nTeléfono: 787-834-6385 (Directo)\n787-832-4040 Exts. 3393\, 3403 \nACT\nAimee Dilán (adilan@act.pr.gov)\nTeléfono: 787-721-8787 Exts. 57220 / 52049 \nNOTA: Favor enviar la Forma ACT 770 y completar el registro.
URL:https://prltap.org/eng/event/webinar-estadisticas-descriptivas-y-analisis-de-datos-de-transportacion-usando-excel/
CATEGORIES:Webinar
ORGANIZER;CN="PRLTAP":MAILTO:prt2.webmaster@gmail.com
END:VEVENT
END:VCALENDAR