BEGIN:VCALENDAR
VERSION:2.0
PRODID:-//T2 Center - ECPv6.15.18//NONSGML v1.0//EN
CALSCALE:GREGORIAN
METHOD:PUBLISH
X-WR-CALNAME:T2 Center
X-ORIGINAL-URL:https://prltap.org/eng
X-WR-CALDESC:Events for T2 Center
REFRESH-INTERVAL;VALUE=DURATION:PT1H
X-Robots-Tag:noindex
X-PUBLISHED-TTL:PT1H
BEGIN:VTIMEZONE
TZID:America/Puerto_Rico
BEGIN:STANDARD
TZOFFSETFROM:-0400
TZOFFSETTO:-0400
TZNAME:AST
DTSTART:20240101T000000
END:STANDARD
END:VTIMEZONE
BEGIN:VEVENT
DTSTART;TZID=America/Puerto_Rico:20250422T073000
DTEND;TZID=America/Puerto_Rico:20250422T160000
DTSTAMP:20260422T195436
CREATED:20250401T130051Z
LAST-MODIFIED:20250401T141119Z
UID:16361-1745307000-1745337600@prltap.org
SUMMARY:SIMPOSIO: Elementos de Seguridad en Zonas de Trabajo e Incidentes en Carreteras
DESCRIPTION:REGISTRO \n  \nAGENDA:\n(sujeta a cambios)\n7:30 AM – 8:00 AM Registro \n  \n8:00 AM – 8:30 AM Mensajes de Apertura y Entrega de Proclama\nDr. Edwin González Montalvo\, Secretario\nDepartamento de Transportación y Obras Públicas \nSr. José González Mercado\, Director Ejecutivo\nComisión para la Seguridad en el Tránsito \n  \n8:30 AM – 9:00 AM Visión Estratégica de la Seguridad en Proyectos de Carreteras\nDr. Edwin González Montalvo\, Secretario\nDepartamento de Transportación y Obras Públicas \n  \n9:00 AM – 9:30 AM  Investigaciones de Seguridad en Zonas de Trabajo\nDr. Didier M. Valdés Díaz\, Co-Director\nCentro de Transferencia de Tecnología en Transportación\, UPR-RUM \n  \n9:30 AM – 11:45 AM Innovación de Seguridad en los Planes de Control Temporero\nDr. Alberto M. Figueroa Medina\, Co-director\nCentro de Transferencia de Tecnología en Transportación\, UPR-RUM \n  \n11:45 AM – 1:00 PM ALMUERZO (por su cuenta) \n  \n  \nNUEVAS TECNOLOGÍAS\, BARRERAS Y DISPOSITIVOS DE CONTROL PARA LA SEGURIDAD EN ZONAS DE TRABAJO E INCIDENTES EN CARRETERAS \n1:00 PM – 1:45 PM Aplicación\, Uso y Certificación del TMAs\n(Truck Mounted Attenuator) \nIng. Patricio Sepúlveda\nGerente de Ventas\, Latinoamérica y el Caribe\, VALTIR \n  \n1:45 PM – 2:30 PM  Aplicaciones para Dispositivos de Seguridad en Zonas de Trabajo e Incidentes en Carreteras \nIng. Carmen Vargas López\nGerente de Ingeniería\, Save Green\, Corp. \n  \n2:30 PM – 2:45 PM Receso \n  \n2:45 PM – 3:15 PM Innovaciones en Sistemas de Seguridad \n\nde Uso Temporal y Permanente \nIng. Carlos Ardon\nIngeniero de Ventas Internacionales\, REBLOC Concrete Barriers \n  \n3:15 PM – 4:00 PM Productos de Ingeniería para Carreteras más Seguras  \nArq. Emanuel Rodríguez\nSubgerente de Ventas\, Puerto Rico Wire Group \n\n\nINFORMACIÓN DE CONTACTO\nCentro de Transferencia de Tecnología en Transportación\nUPR Recinto Universitario de Mayagüez\nCiara Toro Rosario\nE-mail: ciara.toro@upr.edu\nTeléfono: 787-834-6385 (Directo)\n787-832-4040 Exts. 3393\, 3403\nACT\nAimee Dilán (adilan@act.pr.gov)\nPaola N. Fuster (pfuster@act.pr.gov)\nTeléfono: 787-721-8787\, Exts. 57220 / 52049 \nNOTA: Empleados de la ACT favor enviar la Forma ACT 770 y completar el formulario de registro.
URL:https://prltap.org/eng/event/simposio-elementos-de-seguridad-en-zonas-de-trabajo-e-incidentes-en-carreteras/
LOCATION:Sede del Colegio de Ingenieros y Agrimensores de Puerto Rico\, Salón Ing. Carlos Salgado Ave. Domenech\, Calle Ing. Antolín Nin\, Hato Rey\, Puerto Rico
CATEGORIES:Seminar
END:VEVENT
END:VCALENDAR