BEGIN:VCALENDAR
VERSION:2.0
PRODID:-//T2 Center - ECPv6.15.18//NONSGML v1.0//EN
CALSCALE:GREGORIAN
METHOD:PUBLISH
X-WR-CALNAME:T2 Center
X-ORIGINAL-URL:https://prltap.org/eng
X-WR-CALDESC:Events for T2 Center
REFRESH-INTERVAL;VALUE=DURATION:PT1H
X-Robots-Tag:noindex
X-PUBLISHED-TTL:PT1H
BEGIN:VTIMEZONE
TZID:America/Puerto_Rico
BEGIN:STANDARD
TZOFFSETFROM:-0400
TZOFFSETTO:-0400
TZNAME:AST
DTSTART:20240101T000000
END:STANDARD
END:VTIMEZONE
BEGIN:VEVENT
DTSTART;TZID=America/Puerto_Rico:20250206T133000
DTEND;TZID=America/Puerto_Rico:20250206T160000
DTSTAMP:20260423T004446
CREATED:20250128T191236Z
LAST-MODIFIED:20250128T191942Z
UID:15966-1738848600-1738857600@prltap.org
SUMMARY:Webinar: Conceptos Básicos de Economía del Transporte para Funcionarios Municipales
DESCRIPTION:Registro \n  \nFECHA Y HORA:\nJueves\, 6 de febrero de 2025\n1:50 PM – 4:00 PM (la sala virtual abrirá a la 1:30 PM) \nHoras Contacto: Dos (2) horas técnicas aplicables a ingenieros y horas generales aplicables para agrimensores del CIAPR. \n**La determinación final en cuanto a la adjudicación de las Horas Contacto (HC) dependerá de los requisitos y regulaciones vigentes del CIAPR.**\n\n\nPLATAFORMA:\nGoToWebinar\n\n\nINSTRUCTOR:\nCarlos A. del Valle González\, PhD\nCatedrático\nDepartamento de Economía\nUPR-Recinto Universitario de Mayagüez\n\n\n\nOBJETIVOS:\n1. Exponer al participante a conceptos y definiciones básicas de economía y de transportación.\n2. Reconocer la clasificación industrial de la transportación. \n3. Entender la relación entre la transportación\, el desarrollo económico\, los usos del terreno y la calidad de vida. \n4. Introducir al participante a la evaluación de proyectos de inversión pública\, el análisis de costo beneficio y los costos asociados a la provisión de servicios de transporte. \n\n  \nTEMAS A CUBRIRSE: \nMovilidad y accesibilidad\, modos y redes de transportación\, eficiencia y resiliencia\, economía\, el problema económico\, recursos económicos (factores de producción)\, Supply Chain\, sistema económico\, mercado\, planificación\, oferta y demanda\, demanda derivada de transportación\, usos del terreno\, Clasificación Industrial (NAICS) del sector económico de la transportación\, crecimiento económico\, desarrollo económico\, desarrollo sostenible\, política fiscal\, evaluación de proyectos\, análisis de costo beneficio\, costos de los sistemas de transporte\, economías de aglomeración\, factores básicos de localización\, fuerzas de concentración y dispersión geográfica\, ciudad\, región\, urbanismo\, modelos de ciudad orientados al transporte colectivo y la micromovilidad.\n\n\nCONTACTO:\nCentro de Transferencia de Tecnología en Transportación\nSrta. Ciara J. Toro Rosario (ciara.toro@upr.edu)\nSrta. Cristina M. Riberas González (cristina.riberas@upr.edu)\nTeléfono: 787-834-6385 (Directo)\n787-832-4040 Extensiones 3393\, 3403
URL:https://prltap.org/eng/event/webinar-conceptos-basicos-de-economia-del-transporte-para-funcionarios-municipales/
CATEGORIES:Webinar
ORGANIZER;CN="PRLTAP":MAILTO:prt2.webmaster@gmail.com
END:VEVENT
END:VCALENDAR